BEGIN:VCALENDAR
VERSION:2.0
PRODID:-//Jacksonville - ECPv6.15.20//NONSGML v1.0//EN
CALSCALE:GREGORIAN
METHOD:PUBLISH
X-WR-CALNAME:Jacksonville
X-ORIGINAL-URL:https://jacksonville.cisvusa.org
X-WR-CALDESC:Events for Jacksonville
REFRESH-INTERVAL;VALUE=DURATION:PT1H
X-Robots-Tag:noindex
X-PUBLISHED-TTL:PT1H
BEGIN:VTIMEZONE
TZID:America/New_York
BEGIN:DAYLIGHT
TZOFFSETFROM:-0500
TZOFFSETTO:-0400
TZNAME:EDT
DTSTART:20210314T070000
END:DAYLIGHT
BEGIN:STANDARD
TZOFFSETFROM:-0400
TZOFFSETTO:-0500
TZNAME:EST
DTSTART:20211107T060000
END:STANDARD
BEGIN:DAYLIGHT
TZOFFSETFROM:-0500
TZOFFSETTO:-0400
TZNAME:EDT
DTSTART:20220313T070000
END:DAYLIGHT
BEGIN:STANDARD
TZOFFSETFROM:-0400
TZOFFSETTO:-0500
TZNAME:EST
DTSTART:20221106T060000
END:STANDARD
BEGIN:DAYLIGHT
TZOFFSETFROM:-0500
TZOFFSETTO:-0400
TZNAME:EDT
DTSTART:20230312T070000
END:DAYLIGHT
BEGIN:STANDARD
TZOFFSETFROM:-0400
TZOFFSETTO:-0500
TZNAME:EST
DTSTART:20231105T060000
END:STANDARD
BEGIN:DAYLIGHT
TZOFFSETFROM:-0500
TZOFFSETTO:-0400
TZNAME:EDT
DTSTART:20240310T070000
END:DAYLIGHT
BEGIN:STANDARD
TZOFFSETFROM:-0400
TZOFFSETTO:-0500
TZNAME:EST
DTSTART:20241103T060000
END:STANDARD
BEGIN:DAYLIGHT
TZOFFSETFROM:-0500
TZOFFSETTO:-0400
TZNAME:EDT
DTSTART:20250309T070000
END:DAYLIGHT
BEGIN:STANDARD
TZOFFSETFROM:-0400
TZOFFSETTO:-0500
TZNAME:EST
DTSTART:20251102T060000
END:STANDARD
BEGIN:DAYLIGHT
TZOFFSETFROM:-0500
TZOFFSETTO:-0400
TZNAME:EDT
DTSTART:20260308T070000
END:DAYLIGHT
BEGIN:STANDARD
TZOFFSETFROM:-0400
TZOFFSETTO:-0500
TZNAME:EST
DTSTART:20261101T060000
END:STANDARD
END:VTIMEZONE
BEGIN:VEVENT
DTSTART;TZID=America/New_York:20250116T190000
DTEND;TZID=America/New_York:20250116T203000
DTSTAMP:20260419T104425
CREATED:20240819T030236Z
LAST-MODIFIED:20241213T212054Z
UID:10000253-1737054000-1737059400@jacksonville.cisvusa.org
SUMMARY:CISV 101 Information Session Virtual via Zoom
DESCRIPTION:Are you considering CISV for your child or for yourself? At CISV 101\, adults and kids who have participated in CISV international educational programs share their experiences and explain the history and goals of CISV. We also discuss what happens at CISV programs and the next steps for your child to become a CISV participant or for you to become a CISV leader.\nVIDEO FROM AUSTRIA VILLAGE 2024  \nhttps://us02web.zoom.us/j/4415451151?pwd=YnczUHJ4WExONTU4RWNDQXZDQzhLQT09&omn=87804500658 \nMeeting ID: 441 545 1151\nPasscode: 550633 \nOne tap mobile\n+13052241968\,\,4415451151#\,\,\,\,*550633# US\n+16469313860\,\,4415451151#\,\,\,\,*550633# US
URL:https://jacksonville.cisvusa.org/event/cisv-101-zoom-3/
LOCATION:Zoom
CATEGORIES:CISV 101
ATTACH;FMTTYPE=image/jpeg:https://jacksonville.cisvusa.org/wp-content/uploads/sites/19/2021/11/CISV-101-Hero.jpeg
END:VEVENT
BEGIN:VEVENT
DTSTART;TZID=America/New_York:20241215T180000
DTEND;TZID=America/New_York:20241215T193000
DTSTAMP:20260419T104425
CREATED:20240909T194626Z
LAST-MODIFIED:20240918T013046Z
UID:10000271-1734285600-1734291000@jacksonville.cisvusa.org
SUMMARY:CISV 101 Information Session Virtual via Zoom
DESCRIPTION:Are you considering CISV for your child? At CISV 101\, parents and kids who have participated in CISV international and local educational programs share their experiences\, explain the history and goals of CISV. We also discuss what happens at CISV programs and next steps for your child becoming a CISV participant. \nCome learn what CISV is all about!! We will be hosting a ZOOM CISV 101 on December 15th from 6-7:30pm! \n*Presentations run about 60-90 minutes long and we encourage you have your child join if they would like to attend. \nPlease RSVP with the link above! \n  \nhttps://us02web.zoom.us/j/4415451151?pwd=YnczUHJ4WExONTU4RWNDQXZDQzhLQT09 \nMeeting ID: 441 545 1151 \nPasscode: 550633 \nOne tap mobile \n+16465588656\,\,4415451151#\,\,\,\,*550633# US (New York) \n+13017158592\,\,4415451151#\,\,\,\,*550633# US (Washington DC) \n 
URL:https://jacksonville.cisvusa.org/event/cisv-101-zoom-meeting/
LOCATION:Zoom
CATEGORIES:CISV 101
ATTACH;FMTTYPE=image/jpeg:https://jacksonville.cisvusa.org/wp-content/uploads/sites/19/2021/11/CISV-101-Hero.jpeg
END:VEVENT
BEGIN:VEVENT
DTSTART;TZID=America/New_York:20240323T100000
DTEND;TZID=America/New_York:20240323T110000
DTSTAMP:20260419T104425
CREATED:20240301T031944Z
LAST-MODIFIED:20240301T041624Z
UID:10000241-1711188000-1711191600@jacksonville.cisvusa.org
SUMMARY:CISV 101 Zoom Info Session
DESCRIPTION:Are you considering CISV for your child? At CISV 101\, parents and kids who have participated in CISV international educational programs share their experiences and explain the history and goals of CISV. We also discuss what happens at CISV programs and the next steps for your child to become a CISV participant.\nJoin Zoom Meeting\nhttps://us02web.zoom.us/j/4415451151?pwd=YnczUHJ4WExONTU4RWNDQXZDQzhLQT09&omn=88400364749\nMeeting ID: 441 545 1151\nPasscode: 550633\nOne tap mobile\n+13052241968\,\,4415451151#\,\,\,\,*550633# US\n \n 
URL:https://jacksonville.cisvusa.org/event/mar23zoom/
LOCATION:Zoom
CATEGORIES:CISV 101
ATTACH;FMTTYPE=image/jpeg:https://jacksonville.cisvusa.org/wp-content/uploads/sites/19/2021/11/CISV-101-Hero.jpeg
END:VEVENT
BEGIN:VEVENT
DTSTART;TZID=America/New_York:20240121T200000
DTEND;TZID=America/New_York:20240121T213000
DTSTAMP:20260419T104425
CREATED:20240105T000031Z
LAST-MODIFIED:20240106T034533Z
UID:10000205-1705867200-1705872600@jacksonville.cisvusa.org
SUMMARY:CISV 101 Virtual Information Session
DESCRIPTION:Are you considering CISV for your child? At CISV 101\, parents and kids who have participated in CISV international educational programs share their experiences and explain the history and goals of CISV. We also discuss what happens at CISV programs and the next steps for your child to become a CISV participant.\nJoin Zoom Meeting\nhttps://us02web.zoom.us/j/4415451151?pwd=YnczUHJ4WExONTU4RWNDQXZDQzhLQT09&omn=88558015888 \nMeeting ID: 441 545 1151\nPasscode: 550633 \nOne tap mobile\n+13052241968\,\,4415451151#\,\,\,\,*550633# US
URL:https://jacksonville.cisvusa.org/event/101-info-session-jan-21-zoom/
LOCATION:Zoom
CATEGORIES:CISV 101
ATTACH;FMTTYPE=image/jpeg:https://jacksonville.cisvusa.org/wp-content/uploads/sites/19/2021/11/CISV-101-Hero.jpeg
ORGANIZER;CN="CISV Jacksonville Chapter":MAILTO:cisvjax@gmail.com
END:VEVENT
BEGIN:VEVENT
DTSTART;TZID=America/New_York:20231116T200000
DTEND;TZID=America/New_York:20231116T210000
DTSTAMP:20260419T104425
CREATED:20231110T023425Z
LAST-MODIFIED:20231115T030608Z
UID:10000198-1700164800-1700168400@jacksonville.cisvusa.org
SUMMARY:CISV 101 Info Session - Virtual via Zoom
DESCRIPTION:At CISV 101\, parents and kids who have participated in CISV international educational programs share their experiences\, explain the history and goals of CISV. We also discuss what happens at CISV programs and next steps for your child becoming a CISV participant.\nJoin Zoom Meeting\nhttps://us02web.zoom.us/j/4415451151?pwd=YnczUHJ4WExONTU4RWNDQXZDQzhLQT09 \nMeeting ID: 441 545 1151\nPasscode: 550633 \nOne tap mobile\n+13052241968\,\,4415451151#\,\,\,\,*550633# US\n+16469313860\,\,4415451151#\,\,\,\,*550633# US \n 
URL:https://jacksonville.cisvusa.org/event/cisv-101-zoom-2/
LOCATION:Zoom
CATEGORIES:CISV 101
ATTACH;FMTTYPE=image/jpeg:https://jacksonville.cisvusa.org/wp-content/uploads/sites/19/2021/11/CISV-101-Hero.jpeg
END:VEVENT
BEGIN:VEVENT
DTSTART;TZID=America/New_York:20230509T190000
DTEND;TZID=America/New_York:20230509T203000
DTSTAMP:20260419T104425
CREATED:20220502T221728Z
LAST-MODIFIED:20220502T222436Z
UID:10000218-1683658800-1683664200@jacksonville.cisvusa.org
SUMMARY:Monthly Board Meeting (Adults)
DESCRIPTION:The adult Board meets monthly to share updates\, review action items\, make plans and decisions which affect all aspects of our CISV Jacksonville Chapter and programs. Any CISV members are welcome to attend at any time. We usually meet virtually via Zoom but on occasion will have an in-person option as well. Please reach out to jaxvpops@cisvusa.org or jaxadmin@cisvusa.org if you’d like to attend.
URL:https://jacksonville.cisvusa.org/event/monthly-board-meeting-adults/2023-05-09/
LOCATION:Zoom
ATTACH;FMTTYPE=image/jpeg:https://jacksonville.cisvusa.org/wp-content/uploads/sites/19/2021/10/IMG_2972-scaled-e1634519420723.jpg
ORGANIZER;CN="CISV Jacksonville Chapter":MAILTO:cisvjax@gmail.com
END:VEVENT
BEGIN:VEVENT
DTSTART;TZID=America/New_York:20230411T190000
DTEND;TZID=America/New_York:20230411T203000
DTSTAMP:20260419T104425
CREATED:20220502T221728Z
LAST-MODIFIED:20220502T222436Z
UID:10000217-1681239600-1681245000@jacksonville.cisvusa.org
SUMMARY:Monthly Board Meeting (Adults)
DESCRIPTION:The adult Board meets monthly to share updates\, review action items\, make plans and decisions which affect all aspects of our CISV Jacksonville Chapter and programs. Any CISV members are welcome to attend at any time. We usually meet virtually via Zoom but on occasion will have an in-person option as well. Please reach out to jaxvpops@cisvusa.org or jaxadmin@cisvusa.org if you’d like to attend.
URL:https://jacksonville.cisvusa.org/event/monthly-board-meeting-adults/2023-04-11/
LOCATION:Zoom
ATTACH;FMTTYPE=image/jpeg:https://jacksonville.cisvusa.org/wp-content/uploads/sites/19/2021/10/IMG_2972-scaled-e1634519420723.jpg
ORGANIZER;CN="CISV Jacksonville Chapter":MAILTO:cisvjax@gmail.com
END:VEVENT
BEGIN:VEVENT
DTSTART;TZID=America/New_York:20230314T190000
DTEND;TZID=America/New_York:20230314T203000
DTSTAMP:20260419T104425
CREATED:20220502T221728Z
LAST-MODIFIED:20220502T222436Z
UID:10000216-1678820400-1678825800@jacksonville.cisvusa.org
SUMMARY:Monthly Board Meeting (Adults)
DESCRIPTION:The adult Board meets monthly to share updates\, review action items\, make plans and decisions which affect all aspects of our CISV Jacksonville Chapter and programs. Any CISV members are welcome to attend at any time. We usually meet virtually via Zoom but on occasion will have an in-person option as well. Please reach out to jaxvpops@cisvusa.org or jaxadmin@cisvusa.org if you’d like to attend.
URL:https://jacksonville.cisvusa.org/event/monthly-board-meeting-adults/2023-03-14/
LOCATION:Zoom
ATTACH;FMTTYPE=image/jpeg:https://jacksonville.cisvusa.org/wp-content/uploads/sites/19/2021/10/IMG_2972-scaled-e1634519420723.jpg
ORGANIZER;CN="CISV Jacksonville Chapter":MAILTO:cisvjax@gmail.com
END:VEVENT
BEGIN:VEVENT
DTSTART;TZID=America/New_York:20230214T190000
DTEND;TZID=America/New_York:20230214T203000
DTSTAMP:20260419T104425
CREATED:20220502T221728Z
LAST-MODIFIED:20220502T222436Z
UID:10000215-1676401200-1676406600@jacksonville.cisvusa.org
SUMMARY:Monthly Board Meeting (Adults)
DESCRIPTION:The adult Board meets monthly to share updates\, review action items\, make plans and decisions which affect all aspects of our CISV Jacksonville Chapter and programs. Any CISV members are welcome to attend at any time. We usually meet virtually via Zoom but on occasion will have an in-person option as well. Please reach out to jaxvpops@cisvusa.org or jaxadmin@cisvusa.org if you’d like to attend.
URL:https://jacksonville.cisvusa.org/event/monthly-board-meeting-adults/2023-02-14/
LOCATION:Zoom
ATTACH;FMTTYPE=image/jpeg:https://jacksonville.cisvusa.org/wp-content/uploads/sites/19/2021/10/IMG_2972-scaled-e1634519420723.jpg
ORGANIZER;CN="CISV Jacksonville Chapter":MAILTO:cisvjax@gmail.com
END:VEVENT
BEGIN:VEVENT
DTSTART;TZID=America/New_York:20230110T190000
DTEND;TZID=America/New_York:20230110T203000
DTSTAMP:20260419T104425
CREATED:20220502T221728Z
LAST-MODIFIED:20220502T222436Z
UID:10000214-1673377200-1673382600@jacksonville.cisvusa.org
SUMMARY:Monthly Board Meeting (Adults)
DESCRIPTION:The adult Board meets monthly to share updates\, review action items\, make plans and decisions which affect all aspects of our CISV Jacksonville Chapter and programs. Any CISV members are welcome to attend at any time. We usually meet virtually via Zoom but on occasion will have an in-person option as well. Please reach out to jaxvpops@cisvusa.org or jaxadmin@cisvusa.org if you’d like to attend.
URL:https://jacksonville.cisvusa.org/event/monthly-board-meeting-adults/2023-01-10/
LOCATION:Zoom
ATTACH;FMTTYPE=image/jpeg:https://jacksonville.cisvusa.org/wp-content/uploads/sites/19/2021/10/IMG_2972-scaled-e1634519420723.jpg
ORGANIZER;CN="CISV Jacksonville Chapter":MAILTO:cisvjax@gmail.com
END:VEVENT
BEGIN:VEVENT
DTSTART;TZID=America/New_York:20221213T190000
DTEND;TZID=America/New_York:20221213T203000
DTSTAMP:20260419T104425
CREATED:20220502T221728Z
LAST-MODIFIED:20220502T222436Z
UID:10000213-1670958000-1670963400@jacksonville.cisvusa.org
SUMMARY:Monthly Board Meeting (Adults)
DESCRIPTION:The adult Board meets monthly to share updates\, review action items\, make plans and decisions which affect all aspects of our CISV Jacksonville Chapter and programs. Any CISV members are welcome to attend at any time. We usually meet virtually via Zoom but on occasion will have an in-person option as well. Please reach out to jaxvpops@cisvusa.org or jaxadmin@cisvusa.org if you’d like to attend.
URL:https://jacksonville.cisvusa.org/event/monthly-board-meeting-adults/2022-12-13/
LOCATION:Zoom
ATTACH;FMTTYPE=image/jpeg:https://jacksonville.cisvusa.org/wp-content/uploads/sites/19/2021/10/IMG_2972-scaled-e1634519420723.jpg
ORGANIZER;CN="CISV Jacksonville Chapter":MAILTO:cisvjax@gmail.com
END:VEVENT
BEGIN:VEVENT
DTSTART;TZID=America/New_York:20221108T190000
DTEND;TZID=America/New_York:20221108T203000
DTSTAMP:20260419T104425
CREATED:20220502T221728Z
LAST-MODIFIED:20220502T222436Z
UID:10000212-1667934000-1667939400@jacksonville.cisvusa.org
SUMMARY:Monthly Board Meeting (Adults)
DESCRIPTION:The adult Board meets monthly to share updates\, review action items\, make plans and decisions which affect all aspects of our CISV Jacksonville Chapter and programs. Any CISV members are welcome to attend at any time. We usually meet virtually via Zoom but on occasion will have an in-person option as well. Please reach out to jaxvpops@cisvusa.org or jaxadmin@cisvusa.org if you’d like to attend.
URL:https://jacksonville.cisvusa.org/event/monthly-board-meeting-adults/2022-11-08/
LOCATION:Zoom
ATTACH;FMTTYPE=image/jpeg:https://jacksonville.cisvusa.org/wp-content/uploads/sites/19/2021/10/IMG_2972-scaled-e1634519420723.jpg
ORGANIZER;CN="CISV Jacksonville Chapter":MAILTO:cisvjax@gmail.com
END:VEVENT
BEGIN:VEVENT
DTSTART;TZID=America/New_York:20221011T190000
DTEND;TZID=America/New_York:20221011T203000
DTSTAMP:20260419T104425
CREATED:20220502T221728Z
LAST-MODIFIED:20220502T222436Z
UID:10000211-1665514800-1665520200@jacksonville.cisvusa.org
SUMMARY:Monthly Board Meeting (Adults)
DESCRIPTION:The adult Board meets monthly to share updates\, review action items\, make plans and decisions which affect all aspects of our CISV Jacksonville Chapter and programs. Any CISV members are welcome to attend at any time. We usually meet virtually via Zoom but on occasion will have an in-person option as well. Please reach out to jaxvpops@cisvusa.org or jaxadmin@cisvusa.org if you’d like to attend.
URL:https://jacksonville.cisvusa.org/event/monthly-board-meeting-adults/2022-10-11/
LOCATION:Zoom
ATTACH;FMTTYPE=image/jpeg:https://jacksonville.cisvusa.org/wp-content/uploads/sites/19/2021/10/IMG_2972-scaled-e1634519420723.jpg
ORGANIZER;CN="CISV Jacksonville Chapter":MAILTO:cisvjax@gmail.com
END:VEVENT
BEGIN:VEVENT
DTSTART;TZID=America/New_York:20220913T190000
DTEND;TZID=America/New_York:20220913T203000
DTSTAMP:20260419T104425
CREATED:20220502T221728Z
LAST-MODIFIED:20220502T222436Z
UID:10000210-1663095600-1663101000@jacksonville.cisvusa.org
SUMMARY:Monthly Board Meeting (Adults)
DESCRIPTION:The adult Board meets monthly to share updates\, review action items\, make plans and decisions which affect all aspects of our CISV Jacksonville Chapter and programs. Any CISV members are welcome to attend at any time. We usually meet virtually via Zoom but on occasion will have an in-person option as well. Please reach out to jaxvpops@cisvusa.org or jaxadmin@cisvusa.org if you’d like to attend.
URL:https://jacksonville.cisvusa.org/event/monthly-board-meeting-adults/2022-09-13/
LOCATION:Zoom
ATTACH;FMTTYPE=image/jpeg:https://jacksonville.cisvusa.org/wp-content/uploads/sites/19/2021/10/IMG_2972-scaled-e1634519420723.jpg
ORGANIZER;CN="CISV Jacksonville Chapter":MAILTO:cisvjax@gmail.com
END:VEVENT
BEGIN:VEVENT
DTSTART;TZID=America/New_York:20220809T190000
DTEND;TZID=America/New_York:20220809T203000
DTSTAMP:20260419T104425
CREATED:20220502T221728Z
LAST-MODIFIED:20220502T222436Z
UID:10000209-1660071600-1660077000@jacksonville.cisvusa.org
SUMMARY:Monthly Board Meeting (Adults)
DESCRIPTION:The adult Board meets monthly to share updates\, review action items\, make plans and decisions which affect all aspects of our CISV Jacksonville Chapter and programs. Any CISV members are welcome to attend at any time. We usually meet virtually via Zoom but on occasion will have an in-person option as well. Please reach out to jaxvpops@cisvusa.org or jaxadmin@cisvusa.org if you’d like to attend.
URL:https://jacksonville.cisvusa.org/event/monthly-board-meeting-adults/2022-08-09/
LOCATION:Zoom
ATTACH;FMTTYPE=image/jpeg:https://jacksonville.cisvusa.org/wp-content/uploads/sites/19/2021/10/IMG_2972-scaled-e1634519420723.jpg
ORGANIZER;CN="CISV Jacksonville Chapter":MAILTO:cisvjax@gmail.com
END:VEVENT
BEGIN:VEVENT
DTSTART;TZID=America/New_York:20220712T190000
DTEND;TZID=America/New_York:20220712T203000
DTSTAMP:20260419T104425
CREATED:20220502T221728Z
LAST-MODIFIED:20220502T222436Z
UID:10000208-1657652400-1657657800@jacksonville.cisvusa.org
SUMMARY:Monthly Board Meeting (Adults)
DESCRIPTION:The adult Board meets monthly to share updates\, review action items\, make plans and decisions which affect all aspects of our CISV Jacksonville Chapter and programs. Any CISV members are welcome to attend at any time. We usually meet virtually via Zoom but on occasion will have an in-person option as well. Please reach out to jaxvpops@cisvusa.org or jaxadmin@cisvusa.org if you’d like to attend.
URL:https://jacksonville.cisvusa.org/event/monthly-board-meeting-adults/2022-07-12/
LOCATION:Zoom
ATTACH;FMTTYPE=image/jpeg:https://jacksonville.cisvusa.org/wp-content/uploads/sites/19/2021/10/IMG_2972-scaled-e1634519420723.jpg
ORGANIZER;CN="CISV Jacksonville Chapter":MAILTO:cisvjax@gmail.com
END:VEVENT
BEGIN:VEVENT
DTSTART;TZID=America/New_York:20220614T190000
DTEND;TZID=America/New_York:20220614T203000
DTSTAMP:20260419T104425
CREATED:20220502T221728Z
LAST-MODIFIED:20220502T222436Z
UID:10000207-1655233200-1655238600@jacksonville.cisvusa.org
SUMMARY:Monthly Board Meeting (Adults)
DESCRIPTION:The adult Board meets monthly to share updates\, review action items\, make plans and decisions which affect all aspects of our CISV Jacksonville Chapter and programs. Any CISV members are welcome to attend at any time. We usually meet virtually via Zoom but on occasion will have an in-person option as well. Please reach out to jaxvpops@cisvusa.org or jaxadmin@cisvusa.org if you’d like to attend.
URL:https://jacksonville.cisvusa.org/event/monthly-board-meeting-adults/2022-06-14/
LOCATION:Zoom
ATTACH;FMTTYPE=image/jpeg:https://jacksonville.cisvusa.org/wp-content/uploads/sites/19/2021/10/IMG_2972-scaled-e1634519420723.jpg
ORGANIZER;CN="CISV Jacksonville Chapter":MAILTO:cisvjax@gmail.com
END:VEVENT
BEGIN:VEVENT
DTSTART;TZID=America/New_York:20220510T190000
DTEND;TZID=America/New_York:20220510T203000
DTSTAMP:20260419T104425
CREATED:20220502T221728Z
LAST-MODIFIED:20220502T222436Z
UID:10000206-1652209200-1652214600@jacksonville.cisvusa.org
SUMMARY:Monthly Board Meeting (Adults)
DESCRIPTION:The adult Board meets monthly to share updates\, review action items\, make plans and decisions which affect all aspects of our CISV Jacksonville Chapter and programs. Any CISV members are welcome to attend at any time. We usually meet virtually via Zoom but on occasion will have an in-person option as well. Please reach out to jaxvpops@cisvusa.org or jaxadmin@cisvusa.org if you’d like to attend.
URL:https://jacksonville.cisvusa.org/event/monthly-board-meeting-adults/2022-05-10/
LOCATION:Zoom
ATTACH;FMTTYPE=image/jpeg:https://jacksonville.cisvusa.org/wp-content/uploads/sites/19/2021/10/IMG_2972-scaled-e1634519420723.jpg
ORGANIZER;CN="CISV Jacksonville Chapter":MAILTO:cisvjax@gmail.com
END:VEVENT
BEGIN:VEVENT
DTSTART;TZID=America/New_York:20220123T130000
DTEND;TZID=America/New_York:20220123T140000
DTSTAMP:20260419T104425
CREATED:20211113T180401Z
LAST-MODIFIED:20211113T180401Z
UID:10000061-1642942800-1642946400@jacksonville.cisvusa.org
SUMMARY:CISV 101- Jan 23 (Virtual)
DESCRIPTION:This is the perfect opportunity for youth\, parents and other adults to learn more about CISV.\nYouth and adults who have participated in CISV programs will explain CISV’s educational principles\, types of programs and activities\, and 2022 opportunities with the Jacksonville Chapter.\nRegister above and join us by Zoom to learn more.
URL:https://jacksonville.cisvusa.org/event/cisv-101-jan-23-virtual/
LOCATION:Zoom
CATEGORIES:CISV 101
ATTACH;FMTTYPE=image/jpeg:https://jacksonville.cisvusa.org/wp-content/uploads/sites/19/2021/11/CISV-101-Hero.jpeg
ORGANIZER;CN="CISV Jacksonville Chapter":MAILTO:cisvjax@gmail.com
END:VEVENT
END:VCALENDAR