BEGIN:VCALENDAR
VERSION:2.0
PRODID:-//Jacksonville - ECPv6.15.20//NONSGML v1.0//EN
CALSCALE:GREGORIAN
METHOD:PUBLISH
X-WR-CALNAME:Jacksonville
X-ORIGINAL-URL:https://jacksonville.cisvusa.org
X-WR-CALDESC:Events for Jacksonville
REFRESH-INTERVAL;VALUE=DURATION:PT1H
X-Robots-Tag:noindex
X-PUBLISHED-TTL:PT1H
BEGIN:VTIMEZONE
TZID:America/New_York
BEGIN:DAYLIGHT
TZOFFSETFROM:-0500
TZOFFSETTO:-0400
TZNAME:EDT
DTSTART:20240310T070000
END:DAYLIGHT
BEGIN:STANDARD
TZOFFSETFROM:-0400
TZOFFSETTO:-0500
TZNAME:EST
DTSTART:20241103T060000
END:STANDARD
BEGIN:DAYLIGHT
TZOFFSETFROM:-0500
TZOFFSETTO:-0400
TZNAME:EDT
DTSTART:20250309T070000
END:DAYLIGHT
BEGIN:STANDARD
TZOFFSETFROM:-0400
TZOFFSETTO:-0500
TZNAME:EST
DTSTART:20251102T060000
END:STANDARD
BEGIN:DAYLIGHT
TZOFFSETFROM:-0500
TZOFFSETTO:-0400
TZNAME:EDT
DTSTART:20260308T070000
END:DAYLIGHT
BEGIN:STANDARD
TZOFFSETFROM:-0400
TZOFFSETTO:-0500
TZNAME:EST
DTSTART:20261101T060000
END:STANDARD
END:VTIMEZONE
BEGIN:VEVENT
DTSTART;TZID=America/New_York:20251120T180000
DTEND;TZID=America/New_York:20251120T184500
DTSTAMP:20260419T202903
CREATED:20251030T183540Z
LAST-MODIFIED:20251030T183540Z
UID:10000363-1763661600-1763664300@jacksonville.cisvusa.org
SUMMARY:Info Session: Applying for Seminar Program
DESCRIPTION:Interested in applying for a CISV Seminar Camp in 2026?\nSeminar Camps are for 24 – 30 international participants\, with the supervision and assistance of international adult staff. \nJoining a Seminar Camp puts you in the driving-seat\, as with your fellow participants you plan and lead the program. Being part of Seminar Camp’s group-living environment encourages you to take a creative and cooperative approach to problem-solving and resolving differences that can arise from healthy discussion. Friendship and fun ensure that your Seminar Camp experience is lasting and positive. \nZoom Info\nTopic: Info Session: Applying for Seminar Camp\nTime: Nov 20\, 2025 06:00 PM Eastern Time (US and Canada)\nJoin Zoom Meeting\nhttps://us02web.zoom.us/j/85392987265?pwd=SxSKcIVeaPRHa0DZdyLcQyG4kzowK0.1 \nMeeting ID: 853 9298 7265\nPasscode: 934968
URL:https://jacksonville.cisvusa.org/event/info-session-applying-for-seminar-program-2/
LOCATION:Virtual
ATTACH;FMTTYPE=image/jpeg:https://jacksonville.cisvusa.org/wp-content/uploads/sites/19/2023/05/20230624_112933-scaled.jpg
END:VEVENT
BEGIN:VEVENT
DTSTART;TZID=America/New_York:20251117T180000
DTEND;TZID=America/New_York:20251117T184500
DTSTAMP:20260419T202903
CREATED:20251030T183041Z
LAST-MODIFIED:20251030T183041Z
UID:10000362-1763402400-1763405100@jacksonville.cisvusa.org
SUMMARY:Info Session: Applying for Seminar Program
DESCRIPTION:Interested in applying for a CISV Seminar Camp in 2026?\nSeminar Camps are for 24 – 30 international participants\, with the supervision and assistance of international adult staff. \nJoining a Seminar Camp puts you in the driving-seat\, as with your fellow participants you plan and lead the program. Being part of Seminar Camp’s group-living environment encourages you to take a creative and cooperative approach to problem-solving and resolving differences that can arise from healthy discussion. Friendship and fun ensure that your Seminar Camp experience is lasting and positive. \nZoom Info\nTopic: Info Session: Applying for Seminar Camp\nTime: Nov 17\, 2025 06:00 PM Eastern Time (US and Canada)\nJoin Zoom Meeting\nhttps://us02web.zoom.us/j/83842391449?pwd=HzES3JhhBxWs2md8SH7xb8rdra28in.1 \nMeeting ID: 838 4239 1449\nPasscode: 620107
URL:https://jacksonville.cisvusa.org/event/info-session-applying-for-seminar-program/
LOCATION:Virtual
ATTACH;FMTTYPE=image/jpeg:https://jacksonville.cisvusa.org/wp-content/uploads/sites/19/2025/10/WhatsApp-Image-2025-06-04-at-12.40.21-PM.jpeg
ORGANIZER;CN="CISV Jacksonville Chapter":MAILTO:cisvjax@gmail.com
END:VEVENT
BEGIN:VEVENT
DTSTART;TZID=America/New_York:20251105T193000
DTEND;TZID=America/New_York:20251105T210000
DTSTAMP:20260419T202903
CREATED:20251104T002949Z
LAST-MODIFIED:20251105T140613Z
UID:10000367-1762371000-1762376400@jacksonville.cisvusa.org
SUMMARY:CISV 101 Virtual Info Session
DESCRIPTION:Are you considering CISV for your child? At CISV 101\, parents and kids who have participated in CISV international and local educational programs share their experiences\, explain the history and goals of CISV. We also discuss what happens at CISV programs and next steps for your child becoming a CISV participant. \nCome learn what CISV is all about!! We will be hosting a virtual CISV 101 via Google Meets.  Join through this link.\n*Presentations run about 60-90 minutes long and we encourage you to bring your child if they would like to attend. \nPlease RSVP with the link above!
URL:https://jacksonville.cisvusa.org/event/cisv-101-info-session-virtual-110525/
LOCATION:Virtual
CATEGORIES:CISV 101
ATTACH;FMTTYPE=image/jpeg:https://jacksonville.cisvusa.org/wp-content/uploads/sites/19/2021/11/CISV-101-Hero.jpeg
END:VEVENT
END:VCALENDAR