BEGIN:VCALENDAR
VERSION:2.0
PRODID:-//Jacksonville - ECPv6.15.20//NONSGML v1.0//EN
CALSCALE:GREGORIAN
METHOD:PUBLISH
X-WR-CALNAME:Jacksonville
X-ORIGINAL-URL:https://jacksonville.cisvusa.org
X-WR-CALDESC:Events for Jacksonville
REFRESH-INTERVAL;VALUE=DURATION:PT1H
X-Robots-Tag:noindex
X-PUBLISHED-TTL:PT1H
BEGIN:VTIMEZONE
TZID:America/New_York
BEGIN:DAYLIGHT
TZOFFSETFROM:-0500
TZOFFSETTO:-0400
TZNAME:EDT
DTSTART:20200308T070000
END:DAYLIGHT
BEGIN:STANDARD
TZOFFSETFROM:-0400
TZOFFSETTO:-0500
TZNAME:EST
DTSTART:20201101T060000
END:STANDARD
BEGIN:DAYLIGHT
TZOFFSETFROM:-0500
TZOFFSETTO:-0400
TZNAME:EDT
DTSTART:20210314T070000
END:DAYLIGHT
BEGIN:STANDARD
TZOFFSETFROM:-0400
TZOFFSETTO:-0500
TZNAME:EST
DTSTART:20211107T060000
END:STANDARD
BEGIN:DAYLIGHT
TZOFFSETFROM:-0500
TZOFFSETTO:-0400
TZNAME:EDT
DTSTART:20220313T070000
END:DAYLIGHT
BEGIN:STANDARD
TZOFFSETFROM:-0400
TZOFFSETTO:-0500
TZNAME:EST
DTSTART:20221106T060000
END:STANDARD
BEGIN:DAYLIGHT
TZOFFSETFROM:-0500
TZOFFSETTO:-0400
TZNAME:EDT
DTSTART:20230312T070000
END:DAYLIGHT
BEGIN:STANDARD
TZOFFSETFROM:-0400
TZOFFSETTO:-0500
TZNAME:EST
DTSTART:20231105T060000
END:STANDARD
BEGIN:DAYLIGHT
TZOFFSETFROM:-0500
TZOFFSETTO:-0400
TZNAME:EDT
DTSTART:20240310T070000
END:DAYLIGHT
BEGIN:STANDARD
TZOFFSETFROM:-0400
TZOFFSETTO:-0500
TZNAME:EST
DTSTART:20241103T060000
END:STANDARD
BEGIN:DAYLIGHT
TZOFFSETFROM:-0500
TZOFFSETTO:-0400
TZNAME:EDT
DTSTART:20250309T070000
END:DAYLIGHT
BEGIN:STANDARD
TZOFFSETFROM:-0400
TZOFFSETTO:-0500
TZNAME:EST
DTSTART:20251102T060000
END:STANDARD
END:VTIMEZONE
BEGIN:VEVENT
DTSTART;TZID=America/New_York:20240922T150000
DTEND;TZID=America/New_York:20240922T170000
DTSTAMP:20260419T124243
CREATED:20240905T230445Z
LAST-MODIFIED:20240907T145357Z
UID:10000265-1727017200-1727024400@jacksonville.cisvusa.org
SUMMARY:International Peace Day Celebration
DESCRIPTION:Join us for a celebration of International Peace Day at Riverside Park at 3 pm sponsored by our Junior Branch! We’re honoring global harmony through a blend of cultural experiences including yoga\, origami\, and ethnic cuisines. This event welcomes everyone – youth\, parents\, and any friends or family you’d like to bring along. It’s a perfect opportunity to connect\, learn\, and promote peace within our community.  Register to attend. Together\, let’s make a positive impact and foster understanding across cultures!
URL:https://jacksonville.cisvusa.org/event/international-peace-day-celebration/
LOCATION:Riverside Park\, 753 Park St.\, Jacksonville\, FL\, 32204\, United States
CATEGORIES:JB Monthly Activity
ATTACH;FMTTYPE=image/jpeg:https://jacksonville.cisvusa.org/wp-content/uploads/sites/19/2019/10/IMG_3868.jpg
END:VEVENT
BEGIN:VEVENT
DTSTART;TZID=America/New_York:20211024T150000
DTEND;TZID=America/New_York:20211024T180000
DTSTAMP:20260419T124243
CREATED:20211012T011858Z
LAST-MODIFIED:20211020T223042Z
UID:10000132-1635087600-1635098400@jacksonville.cisvusa.org
SUMMARY:JB Spooky Activity
DESCRIPTION:Join the Junior Branch for a Spooky Activity.  Wear a costume and bring candy to share from your culture or a culture you appreciate. \nWe will have a series of Halloween-themed CISV activities. \n 
URL:https://jacksonville.cisvusa.org/event/jb-trunk-or-treat/
LOCATION:Riverside Park\, 753 Park St.\, Jacksonville\, FL\, 32204\, United States
ATTACH;FMTTYPE=image/jpeg:https://jacksonville.cisvusa.org/wp-content/uploads/sites/19/2021/10/pi-pumpkin-fun-trunk-or-treat.jpg
END:VEVENT
END:VCALENDAR