BEGIN:VCALENDAR
VERSION:2.0
PRODID:-//Jacksonville - ECPv6.15.20//NONSGML v1.0//EN
CALSCALE:GREGORIAN
METHOD:PUBLISH
X-WR-CALNAME:Jacksonville
X-ORIGINAL-URL:https://jacksonville.cisvusa.org
X-WR-CALDESC:Events for Jacksonville
REFRESH-INTERVAL;VALUE=DURATION:PT1H
X-Robots-Tag:noindex
X-PUBLISHED-TTL:PT1H
BEGIN:VTIMEZONE
TZID:America/New_York
BEGIN:DAYLIGHT
TZOFFSETFROM:-0500
TZOFFSETTO:-0400
TZNAME:EDT
DTSTART:20200308T070000
END:DAYLIGHT
BEGIN:STANDARD
TZOFFSETFROM:-0400
TZOFFSETTO:-0500
TZNAME:EST
DTSTART:20201101T060000
END:STANDARD
BEGIN:DAYLIGHT
TZOFFSETFROM:-0500
TZOFFSETTO:-0400
TZNAME:EDT
DTSTART:20210314T070000
END:DAYLIGHT
BEGIN:STANDARD
TZOFFSETFROM:-0400
TZOFFSETTO:-0500
TZNAME:EST
DTSTART:20211107T060000
END:STANDARD
BEGIN:DAYLIGHT
TZOFFSETFROM:-0500
TZOFFSETTO:-0400
TZNAME:EDT
DTSTART:20220313T070000
END:DAYLIGHT
BEGIN:STANDARD
TZOFFSETFROM:-0400
TZOFFSETTO:-0500
TZNAME:EST
DTSTART:20221106T060000
END:STANDARD
BEGIN:DAYLIGHT
TZOFFSETFROM:-0500
TZOFFSETTO:-0400
TZNAME:EDT
DTSTART:20230312T070000
END:DAYLIGHT
BEGIN:STANDARD
TZOFFSETFROM:-0400
TZOFFSETTO:-0500
TZNAME:EST
DTSTART:20231105T060000
END:STANDARD
BEGIN:DAYLIGHT
TZOFFSETFROM:-0500
TZOFFSETTO:-0400
TZNAME:EDT
DTSTART:20240310T070000
END:DAYLIGHT
BEGIN:STANDARD
TZOFFSETFROM:-0400
TZOFFSETTO:-0500
TZNAME:EST
DTSTART:20241103T060000
END:STANDARD
BEGIN:DAYLIGHT
TZOFFSETFROM:-0500
TZOFFSETTO:-0400
TZNAME:EDT
DTSTART:20250309T070000
END:DAYLIGHT
BEGIN:STANDARD
TZOFFSETFROM:-0400
TZOFFSETTO:-0500
TZNAME:EST
DTSTART:20251102T060000
END:STANDARD
BEGIN:DAYLIGHT
TZOFFSETFROM:-0500
TZOFFSETTO:-0400
TZNAME:EDT
DTSTART:20260308T070000
END:DAYLIGHT
BEGIN:STANDARD
TZOFFSETFROM:-0400
TZOFFSETTO:-0500
TZNAME:EST
DTSTART:20261101T060000
END:STANDARD
END:VTIMEZONE
BEGIN:VEVENT
DTSTART;TZID=America/New_York:20251205T183000
DTEND;TZID=America/New_York:20251205T203000
DTSTAMP:20260419T183954
CREATED:20250831T224501Z
LAST-MODIFIED:20250831T224719Z
UID:10000350-1764959400-1764966600@jacksonville.cisvusa.org
SUMMARY:CISV Jacksonville Annual Holiday Party
DESCRIPTION:Ring in the holiday season with your CISV Jacksonville family! Join us for our beloved annual holiday celebration where community\, service\, and festive cheer come together. \nWhile our youth work on their meaningful holiday service project\, adults can relax and enjoy delicious food\, warm conversations\, and the company of fellow CISV families. It’s the perfect opportunity to unwind from the busy holiday season and connect with friends old and new. \nBring your family and invite friends to experience the special spirit of our CISV community. This heartwarming evening combines the joy of giving back with the warmth of fellowship – exactly what the holidays are all about! \nContact jacksonville@cisvusa.org for details.
URL:https://jacksonville.cisvusa.org/event/cisv-jacksonville-annual-holiday-party/
LOCATION:Private Residence – details to be provided
CATEGORIES:Adult Socials,JB Monthly Activity
ATTACH;FMTTYPE=image/jpeg:https://jacksonville.cisvusa.org/wp-content/uploads/sites/19/2025/08/istockphoto-525154951-612x612-1.jpg
END:VEVENT
BEGIN:VEVENT
DTSTART;TZID=America/New_York:20241206T190000
DTEND;TZID=America/New_York:20241206T210000
DTSTAMP:20260419T183954
CREATED:20240918T020059Z
LAST-MODIFIED:20240918T020059Z
UID:10000275-1733511600-1733518800@jacksonville.cisvusa.org
SUMMARY:Holiday Party
DESCRIPTION:Celebrate the holidays with CISV.  The Jr Branch is busy planning holiday fun for youth. \nAdults will enjoy good food and warm fellowship. \nJoin us and bring friends. \n 
URL:https://jacksonville.cisvusa.org/event/holiday-party-3/
LOCATION:Private Residence – details to be provided
ATTACH;FMTTYPE=image/jpeg:https://jacksonville.cisvusa.org/wp-content/uploads/sites/19/2022/11/IMG_2326-1.jpg
END:VEVENT
BEGIN:VEVENT
DTSTART;TZID=America/New_York:20211210T183000
DTEND;TZID=America/New_York:20211210T203000
DTSTAMP:20260419T183954
CREATED:20211024T165259Z
LAST-MODIFIED:20211210T013351Z
UID:10000134-1639161000-1639168200@jacksonville.cisvusa.org
SUMMARY:2022 Program Reveal & Holiday Celebration
DESCRIPTION:The results are in and this is the event to join to learn what programs we will participate and where in the world we will be sending our CISV JAX delegates! Attendees have the option of joining in-person or virtually. \nIn person: this will be a limited-capacity event for fully vaccinated individuals\, so please be sure to RSVP. Event will be held at the private residence of one of our volunteers in the San Marco area (location to be provided upon registration) with space indoors and outdoors for social distancing. Following the Reveal we will have an internationally-themed holiday social. Food and non-alcoholic drinks will be provided; feel free to bring your beverage of choice. \nVirtual: Zoom details will be shared prior to the event.
URL:https://jacksonville.cisvusa.org/event/2022-program-reveal-holiday-celebration/
LOCATION:Private Residence – details to be provided
ATTACH;FMTTYPE=image/jpeg:https://jacksonville.cisvusa.org/wp-content/uploads/sites/19/2020/09/Jax-Step-Up-group-shot.jpg
END:VEVENT
END:VCALENDAR