BEGIN:VCALENDAR
VERSION:2.0
PRODID:-//Jacksonville - ECPv6.15.20//NONSGML v1.0//EN
CALSCALE:GREGORIAN
METHOD:PUBLISH
X-WR-CALNAME:Jacksonville
X-ORIGINAL-URL:https://jacksonville.cisvusa.org
X-WR-CALDESC:Events for Jacksonville
REFRESH-INTERVAL;VALUE=DURATION:PT1H
X-Robots-Tag:noindex
X-PUBLISHED-TTL:PT1H
BEGIN:VTIMEZONE
TZID:America/New_York
BEGIN:DAYLIGHT
TZOFFSETFROM:-0500
TZOFFSETTO:-0400
TZNAME:EDT
DTSTART:20180311T070000
END:DAYLIGHT
BEGIN:STANDARD
TZOFFSETFROM:-0400
TZOFFSETTO:-0500
TZNAME:EST
DTSTART:20181104T060000
END:STANDARD
BEGIN:DAYLIGHT
TZOFFSETFROM:-0500
TZOFFSETTO:-0400
TZNAME:EDT
DTSTART:20190310T070000
END:DAYLIGHT
BEGIN:STANDARD
TZOFFSETFROM:-0400
TZOFFSETTO:-0500
TZNAME:EST
DTSTART:20191103T060000
END:STANDARD
BEGIN:DAYLIGHT
TZOFFSETFROM:-0500
TZOFFSETTO:-0400
TZNAME:EDT
DTSTART:20200308T070000
END:DAYLIGHT
BEGIN:STANDARD
TZOFFSETFROM:-0400
TZOFFSETTO:-0500
TZNAME:EST
DTSTART:20201101T060000
END:STANDARD
END:VTIMEZONE
BEGIN:VEVENT
DTSTART;TZID=America/New_York:20191208T150000
DTEND;TZID=America/New_York:20191208T163000
DTSTAMP:20260421T225513
CREATED:20191010T040539Z
LAST-MODIFIED:20191010T041218Z
UID:10000086-1575817200-1575822600@jacksonville.cisvusa.org
SUMMARY:CISV 101 - Pablo Creek Library
DESCRIPTION:At a CISV 101\, prospective youth and parents can hear about CISV educational programs from youth and adults who have participated in CISV’s unique educational programs.  CISV 101 provides a short orientation about CISV’s educational principles\, history\, programs opportunities\, selection process and volunteer expectations.\nSee a video of the village we hosted in Jacksonville in 2019.\n \nTo learn more about CISV\, also see our video library here: https://jacksonville.cisvusa.org/cisv-video-library/
URL:https://jacksonville.cisvusa.org/event/cisv-101-p/
LOCATION:Pablo Creek Branch Library\, 13295 Beach Blvd\, 32246
CATEGORIES:CISV 101
ATTACH;FMTTYPE=image/jpeg:https://jacksonville.cisvusa.org/wp-content/uploads/sites/19/2019/10/VillageGroupShot.jpg
GEO:30.2882186;-81.4733041
X-APPLE-STRUCTURED-LOCATION;VALUE=URI;X-ADDRESS=Pablo Creek Branch Library 13295 Beach Blvd 32246;X-APPLE-RADIUS=500;X-TITLE=13295 Beach Blvd:geo:-81.4733041,30.2882186
END:VEVENT
BEGIN:VEVENT
DTSTART;TZID=America/New_York:20191116T103000
DTEND;TZID=America/New_York:20191116T120000
DTSTAMP:20260421T225513
CREATED:20191010T034127Z
LAST-MODIFIED:20191030T220750Z
UID:10000081-1573900200-1573905600@jacksonville.cisvusa.org
SUMMARY:CISV 101 Nov - Pablo Creek Branch
DESCRIPTION:At a CISV 101\, prospective youth and parents can hear about CISV educational programs from youth and adults who have participated in CISV’s unique educational programs.  CISV 101 provides a short orientation about CISV’s educational principles\, history\, programs opportunities\, selection process and volunteer expectations.\nCheck out one of our introductory videos from a Village in Canada that Jacksonville kids attended:\nhttps://www.facebook.com/CISVLondon/videos/1507063902686372/ \n  \nTo learn more about CISV\, also see our video library here
URL:https://jacksonville.cisvusa.org/event/cisv-101-beaches-branch/
LOCATION:Pablo Creek Branch Library\, 13295 Beach Blvd\, 32246
CATEGORIES:CISV 101
ATTACH;FMTTYPE=image/jpeg:https://jacksonville.cisvusa.org/wp-content/uploads/sites/19/2019/10/Village-Norway-in-Costumes.jpg
GEO:30.2882186;-81.4733041
X-APPLE-STRUCTURED-LOCATION;VALUE=URI;X-ADDRESS=Pablo Creek Branch Library 13295 Beach Blvd 32246;X-APPLE-RADIUS=500;X-TITLE=13295 Beach Blvd:geo:-81.4733041,30.2882186
END:VEVENT
END:VCALENDAR