BEGIN:VCALENDAR
VERSION:2.0
PRODID:-//Jacksonville - ECPv6.15.20//NONSGML v1.0//EN
CALSCALE:GREGORIAN
METHOD:PUBLISH
X-WR-CALNAME:Jacksonville
X-ORIGINAL-URL:https://jacksonville.cisvusa.org
X-WR-CALDESC:Events for Jacksonville
REFRESH-INTERVAL;VALUE=DURATION:PT1H
X-Robots-Tag:noindex
X-PUBLISHED-TTL:PT1H
BEGIN:VTIMEZONE
TZID:America/New_York
BEGIN:DAYLIGHT
TZOFFSETFROM:-0500
TZOFFSETTO:-0400
TZNAME:EDT
DTSTART:20170312T070000
END:DAYLIGHT
BEGIN:STANDARD
TZOFFSETFROM:-0400
TZOFFSETTO:-0500
TZNAME:EST
DTSTART:20171105T060000
END:STANDARD
BEGIN:DAYLIGHT
TZOFFSETFROM:-0500
TZOFFSETTO:-0400
TZNAME:EDT
DTSTART:20180311T070000
END:DAYLIGHT
BEGIN:STANDARD
TZOFFSETFROM:-0400
TZOFFSETTO:-0500
TZNAME:EST
DTSTART:20181104T060000
END:STANDARD
BEGIN:DAYLIGHT
TZOFFSETFROM:-0500
TZOFFSETTO:-0400
TZNAME:EDT
DTSTART:20190310T070000
END:DAYLIGHT
BEGIN:STANDARD
TZOFFSETFROM:-0400
TZOFFSETTO:-0500
TZNAME:EST
DTSTART:20191103T060000
END:STANDARD
END:VTIMEZONE
BEGIN:VEVENT
DTSTART;TZID=America/New_York:20181201T103000
DTEND;TZID=America/New_York:20181201T113000
DTSTAMP:20260420T185452
CREATED:20181020T203355Z
LAST-MODIFIED:20181118T204930Z
UID:10000020-1543660200-1543663800@jacksonville.cisvusa.org
SUMMARY:CISV 101 Dec. 1st 2018
DESCRIPTION:Are you considering CISV for your child? At CISV 101\, parents and kids who have participated in CISV international educational programs share their experiences\, explain the history and goals of CISV. We also discuss what happens at CISV programs and next steps for your child becoming a CISV participant. Sign up to learn more!
URL:https://jacksonville.cisvusa.org/event/cisv-101-dec-1st-2018/
LOCATION:Beaches Branch Library\, 600 3rd St.\, Neptune Beach\, FL\, 32266
CATEGORIES:CISV 101
ATTACH;FMTTYPE=image/jpeg:https://jacksonville.cisvusa.org/wp-content/uploads/sites/19/2018/08/jumping.jpg
GEO:30.3197719;-81.398104
X-APPLE-STRUCTURED-LOCATION;VALUE=URI;X-ADDRESS=Beaches Branch Library 600 3rd St. Neptune Beach FL 32266;X-APPLE-RADIUS=500;X-TITLE=600 3rd St.:geo:-81.398104,30.3197719
END:VEVENT
END:VCALENDAR