BEGIN:VCALENDAR
VERSION:2.0
PRODID:-//Jacksonville - ECPv6.15.20//NONSGML v1.0//EN
CALSCALE:GREGORIAN
METHOD:PUBLISH
X-WR-CALNAME:Jacksonville
X-ORIGINAL-URL:https://jacksonville.cisvusa.org
X-WR-CALDESC:Events for Jacksonville
REFRESH-INTERVAL;VALUE=DURATION:PT1H
X-Robots-Tag:noindex
X-PUBLISHED-TTL:PT1H
BEGIN:VTIMEZONE
TZID:America/New_York
BEGIN:DAYLIGHT
TZOFFSETFROM:-0500
TZOFFSETTO:-0400
TZNAME:EDT
DTSTART:20170312T070000
END:DAYLIGHT
BEGIN:STANDARD
TZOFFSETFROM:-0400
TZOFFSETTO:-0500
TZNAME:EST
DTSTART:20171105T060000
END:STANDARD
BEGIN:DAYLIGHT
TZOFFSETFROM:-0500
TZOFFSETTO:-0400
TZNAME:EDT
DTSTART:20180311T070000
END:DAYLIGHT
BEGIN:STANDARD
TZOFFSETFROM:-0400
TZOFFSETTO:-0500
TZNAME:EST
DTSTART:20181104T060000
END:STANDARD
BEGIN:DAYLIGHT
TZOFFSETFROM:-0500
TZOFFSETTO:-0400
TZNAME:EDT
DTSTART:20190310T070000
END:DAYLIGHT
BEGIN:STANDARD
TZOFFSETFROM:-0400
TZOFFSETTO:-0500
TZNAME:EST
DTSTART:20191103T060000
END:STANDARD
END:VTIMEZONE
BEGIN:VEVENT
DTSTART;TZID=America/New_York:20181028T160000
DTEND;TZID=America/New_York:20181028T180000
DTSTAMP:20260419T162627
CREATED:20180721T212510Z
LAST-MODIFIED:20180926T215307Z
UID:10000044-1540742400-1540749600@jacksonville.cisvusa.org
SUMMARY:2019 Program Reveal & Fall General Meeting
DESCRIPTION:Please join us as we celebrate our 2018 CISV delegates and reveal next year’s exciting programs!\nBe the first to know the programs available for Jacksonville youth age 11 to 18! \nLook forward to seeing you then!
URL:https://jacksonville.cisvusa.org/event/2019-program-reveal-fall-general-meeting/
LOCATION:Jacksonville University – Davis College of Business Bldg\, 2800 University Blvd N\,\, Jacksonville\, FL\, 32211
ATTACH;FMTTYPE=image/jpeg:https://jacksonville.cisvusa.org/wp-content/uploads/sites/19/2018/07/groupshotinprague.jpg
ORGANIZER;CN="CISV Jacksonville Chapter":MAILTO:cisvjax@gmail.com
GEO:30.3507909;-81.606326
X-APPLE-STRUCTURED-LOCATION;VALUE=URI;X-ADDRESS=Jacksonville University – Davis College of Business Bldg 2800 University Blvd N Jacksonville FL 32211;X-APPLE-RADIUS=500;X-TITLE=2800 University Blvd N\,:geo:-81.606326,30.3507909
END:VEVENT
BEGIN:VEVENT
DTSTART;TZID=America/New_York:20181028T143000
DTEND;TZID=America/New_York:20181028T160000
DTSTAMP:20260419T162627
CREATED:20180913T165756Z
LAST-MODIFIED:20191009T040026Z
UID:10000021-1540737000-1540742400@jacksonville.cisvusa.org
SUMMARY:Jr. Branch Youth Activity & CISV 101 for Adults- Oct 28th 2018
DESCRIPTION:Join us on Oct 26 for activities for youth and adults.\nYouth Activities:  Youth age 9 and up are invited to join the CISV Junior Branch\, the part of our organization run by our teenagers\, to experience typical CISV games and activities.  Wear clothes you can move in!\nNew Parent /Adult Activities:  While youth participate in Junior Branch activities\, parents are invited to a CISV 101\, a short presentation by parents and kids who have participated in CISV international educational programs.  In the presentation\, youth and adults will share their CISV experiences\, explain the history and goals of CISV. We also discuss what happens at CISV programs and next steps for you or your child to become a CISV participant. Sign up to learn more!\nCurrent CISV Adult Activities:  Adults who have previously participated in CISV activities\, either as a parent or leader\, are invited to join us for a social hour with coffee and snacks.\nFall General Meeting Right After:  Immediately after these activities\, CISV Jacksonville will host its Fall Meeting where we will announce the dates and countries of our programs for 2019.  Join us and be the first to know where we’ll go in 2019.\n2019 Educational Theme: Conflict and Resolution\n\n\n\n\n\n\n\n\n\nMap of Jacksonville University: https://www.ju.edu/map/index.html
URL:https://jacksonville.cisvusa.org/event/cisv-101-oct-28th-2018/
LOCATION:Jacksonville University – Davis College of Business Bldg\, 2800 University Blvd N\,\, Jacksonville\, FL\, 32211
CATEGORIES:CISV 101
ATTACH;FMTTYPE=image/jpeg:https://jacksonville.cisvusa.org/wp-content/uploads/sites/19/2018/08/32fe882b-53df-4016-8bb5-d1f3c61265d9.jpg
GEO:30.3507909;-81.606326
X-APPLE-STRUCTURED-LOCATION;VALUE=URI;X-ADDRESS=Jacksonville University – Davis College of Business Bldg 2800 University Blvd N Jacksonville FL 32211;X-APPLE-RADIUS=500;X-TITLE=2800 University Blvd N\,:geo:-81.606326,30.3507909
END:VEVENT
END:VCALENDAR