BEGIN:VCALENDAR
VERSION:2.0
PRODID:-//Jacksonville - ECPv6.15.20//NONSGML v1.0//EN
CALSCALE:GREGORIAN
METHOD:PUBLISH
X-WR-CALNAME:Jacksonville
X-ORIGINAL-URL:https://jacksonville.cisvusa.org
X-WR-CALDESC:Events for Jacksonville
REFRESH-INTERVAL;VALUE=DURATION:PT1H
X-Robots-Tag:noindex
X-PUBLISHED-TTL:PT1H
BEGIN:VTIMEZONE
TZID:America/New_York
BEGIN:DAYLIGHT
TZOFFSETFROM:-0500
TZOFFSETTO:-0400
TZNAME:EDT
DTSTART:20180311T070000
END:DAYLIGHT
BEGIN:STANDARD
TZOFFSETFROM:-0400
TZOFFSETTO:-0500
TZNAME:EST
DTSTART:20181104T060000
END:STANDARD
BEGIN:DAYLIGHT
TZOFFSETFROM:-0500
TZOFFSETTO:-0400
TZNAME:EDT
DTSTART:20190310T070000
END:DAYLIGHT
BEGIN:STANDARD
TZOFFSETFROM:-0400
TZOFFSETTO:-0500
TZNAME:EST
DTSTART:20191103T060000
END:STANDARD
BEGIN:DAYLIGHT
TZOFFSETFROM:-0500
TZOFFSETTO:-0400
TZNAME:EDT
DTSTART:20200308T070000
END:DAYLIGHT
BEGIN:STANDARD
TZOFFSETFROM:-0400
TZOFFSETTO:-0500
TZNAME:EST
DTSTART:20201101T060000
END:STANDARD
BEGIN:DAYLIGHT
TZOFFSETFROM:-0500
TZOFFSETTO:-0400
TZNAME:EDT
DTSTART:20210314T070000
END:DAYLIGHT
BEGIN:STANDARD
TZOFFSETFROM:-0400
TZOFFSETTO:-0500
TZNAME:EST
DTSTART:20211107T060000
END:STANDARD
BEGIN:DAYLIGHT
TZOFFSETFROM:-0500
TZOFFSETTO:-0400
TZNAME:EDT
DTSTART:20220313T070000
END:DAYLIGHT
BEGIN:STANDARD
TZOFFSETFROM:-0400
TZOFFSETTO:-0500
TZNAME:EST
DTSTART:20221106T060000
END:STANDARD
BEGIN:DAYLIGHT
TZOFFSETFROM:-0500
TZOFFSETTO:-0400
TZNAME:EDT
DTSTART:20230312T070000
END:DAYLIGHT
BEGIN:STANDARD
TZOFFSETFROM:-0400
TZOFFSETTO:-0500
TZNAME:EST
DTSTART:20231105T060000
END:STANDARD
BEGIN:DAYLIGHT
TZOFFSETFROM:-0500
TZOFFSETTO:-0400
TZNAME:EDT
DTSTART:20240310T070000
END:DAYLIGHT
BEGIN:STANDARD
TZOFFSETFROM:-0400
TZOFFSETTO:-0500
TZNAME:EST
DTSTART:20241103T060000
END:STANDARD
BEGIN:DAYLIGHT
TZOFFSETFROM:-0500
TZOFFSETTO:-0400
TZNAME:EDT
DTSTART:20250309T070000
END:DAYLIGHT
BEGIN:STANDARD
TZOFFSETFROM:-0400
TZOFFSETTO:-0500
TZNAME:EST
DTSTART:20251102T060000
END:STANDARD
BEGIN:DAYLIGHT
TZOFFSETFROM:-0500
TZOFFSETTO:-0400
TZNAME:EDT
DTSTART:20260308T070000
END:DAYLIGHT
BEGIN:STANDARD
TZOFFSETFROM:-0400
TZOFFSETTO:-0500
TZNAME:EST
DTSTART:20261101T060000
END:STANDARD
END:VTIMEZONE
BEGIN:VEVENT
DTSTART;TZID=America/New_York:20250125T090000
DTEND;TZID=America/New_York:20250125T113000
DTSTAMP:20260425T153216
CREATED:20240825T025342Z
LAST-MODIFIED:20241113T211251Z
UID:10000258-1737795600-1737804600@jacksonville.cisvusa.org
SUMMARY:Village and Faces Fun Day #2 2025 & CISV 101
DESCRIPTION:CISV Jacksonville conducts three events to select participants for its Village program (children born between September 1\, 2013\, and August 31\, 2014) and Faces program (4th or 5th-grade students in the 2024-25 school year): \n\nTwo Saturday Morning “Play Days”\nOne Friday Night Overnight (Mandatory)\n\nAttending more events increases the likelihood of selection. The overnight event is mandatory. \nThese selection events offer children a glimpse into CISV games and activities\, provide parents with a deeper understanding of CISV’s educational principles and program specifics\, and allow our chapter to familiarize itself with youth and leader applicants. \nWe also host a CISV “101” Info Session for adults to gain insights into CISV’s principles. \nThe Village and Faces Programs aim to foster understanding\, communication\, cooperation\, and communal living. Selection criteria include a child’s maturity\, openness to new experiences and people\, enthusiasm for participation\, and the ability to be away from family during the program. The composition of personalities within the delegation is also considered for a balanced mix. \nActivities are typically planned and led by teenage leaders from the Junior Branch and experienced adult leaders. Planning selection events enables our chapter’s youth leaders to hone their leadership skills. \nAll Village applicants and their parents will undergo interviews during one of the selection events. While we prefer Village applicants to apply before the event\, those seeking information are welcome to join without applying. \n\nApply for Village\nApply for Faces\nGet Reference Form\nSign Up for Parent Interview (Village Program Only)\nLearn More About the Selection Process\n\n\n\n\n\n\n 
URL:https://jacksonville.cisvusa.org/event/village-faces-fun-day-2-2025/
LOCATION:Hendricks Ave. Baptist Church Fellowship Hall\, 4001 Hendricks Ave.\, Jacksonville\, 32207\, United States
CATEGORIES:CISV 101,Play Dates
ATTACH;FMTTYPE=image/jpeg:https://jacksonville.cisvusa.org/wp-content/uploads/sites/19/2022/08/WhatsApp-Image-2024-01-13-at-3.44.28-PM.jpeg
GEO:30.2801549;-81.6503397
X-APPLE-STRUCTURED-LOCATION;VALUE=URI;X-ADDRESS=Hendricks Ave. Baptist Church Fellowship Hall 4001 Hendricks Ave. Jacksonville 32207 United States;X-APPLE-RADIUS=500;X-TITLE=4001 Hendricks Ave.:geo:-81.6503397,30.2801549
END:VEVENT
BEGIN:VEVENT
DTSTART;TZID=America/New_York:20250111T090000
DTEND;TZID=America/New_York:20250111T113000
DTSTAMP:20260425T153216
CREATED:20240824T193236Z
LAST-MODIFIED:20250103T203445Z
UID:10000255-1736586000-1736595000@jacksonville.cisvusa.org
SUMMARY:Village/Faces Fun Day #1 2025 & CISV 101
DESCRIPTION:CISV Jacksonville conducts three events to select participants for its Village program (children born between September 1\, 2013\, and August 31\, 2014) and Faces program (4th or 5th-grade students in the 2024-25 school year): \n\nTwo Saturday Morning “Play Days”\nOne Friday Night Overnight (Mandatory)\n\nAttending more events increases the likelihood of selection. The overnight event is mandatory. \nThese selection events offer children a glimpse into CISV games and activities\, provide parents with a deeper understanding of CISV’s educational principles and program specifics\, and allow our chapter to familiarize itself with youth and leader applicants. \nWe also host a CISV “101” Info Session for adults to gain insights into CISV’s principles. \nThe Village and Faces Programs aim to foster understanding\, communication\, cooperation\, and communal living. Selection criteria include a child’s maturity\, openness to new experiences and people\, enthusiasm for participation\, and the ability to be away from family during the program. The composition of personalities within the delegation is also considered for a balanced mix. \nActivities are typically planned and led by teenage leaders from the Junior Branch and experienced adult leaders. Planning selection events enables our chapter’s youth leaders to hone their leadership skills. \nAll Village applicants and their parents will undergo interviews during one of the selection events. While we prefer Village applicants to apply before the event\, those seeking information are welcome to join without applying. \n\nApply for Village\nApply for Faces\nGet Reference Form\nSign Up for Parent Interview (Village Program Only)\nLearn More About the Selection Process\n\n\n\n\n\n\n  \n\n\n			\n	Junior Counselors from Sweden\, France\, USA to Jax Village 2019China Delegation to Jax Village 2019Brazil Delegation to 2019 Jax VillageUSA Delegation from Jax Village 2019Iceland Delegation from Jax Village 2019Vietnam Delegation at Jax Village 2019Austria Delegation at Jax Village 2019Portugal Delegation from Jax Village 2019Canadian Delegation from Jax Village 2019Poland Delegation at Jax VillageMexico Delegation from Jax Village 2019
URL:https://jacksonville.cisvusa.org/event/village-faces-fun-day-1-2025-cisv-101/
LOCATION:Hendricks Ave. Baptist Church Fellowship Hall\, 4001 Hendricks Ave.\, Jacksonville\, 32207\, United States
CATEGORIES:CISV 101,Play Dates
ATTACH;FMTTYPE=image/jpeg:https://jacksonville.cisvusa.org/wp-content/uploads/sites/19/2024/08/HendricksAvePD-e1724527944909.jpeg
ORGANIZER;CN="CISV Jacksonville Chapter":MAILTO:cisvjax@gmail.com
GEO:30.2801549;-81.6503397
X-APPLE-STRUCTURED-LOCATION;VALUE=URI;X-ADDRESS=Hendricks Ave. Baptist Church Fellowship Hall 4001 Hendricks Ave. Jacksonville 32207 United States;X-APPLE-RADIUS=500;X-TITLE=4001 Hendricks Ave.:geo:-81.6503397,30.2801549
END:VEVENT
BEGIN:VEVENT
DTSTART;TZID=America/New_York:20240406T100000
DTEND;TZID=America/New_York:20240406T120000
DTSTAMP:20260425T153216
CREATED:20231217T134845Z
LAST-MODIFIED:20240403T191616Z
UID:10000203-1712397600-1712404800@jacksonville.cisvusa.org
SUMMARY:Faces Fun Day #4 2024
DESCRIPTION:CISV Jacksonville selects youth for its Faces program (for kids in 4th or 5th grade in the 2023-24 school year). \nSelection events provide children with a firsthand experience of CISV games and activities\, offer parents insights into CISV’s educational principles and program specifics\, and allow our chapter to familiarize itself with youth and leader applicants. \nWe also invite adults to a CISV “101” Info Session to delve deeper into CISV’s principles. \nThe Faces Programs aim to cultivate an understanding of each other’s lives and foster communication\, cooperation\, and communal living. Selection criteria include a child’s maturity\, openness to new experiences and people\, enthusiasm for participation\, and the ability to be away from family during the program. The delegation’s personality mix is also considered. \nActivities are typically planned and led by teenage leaders from the Junior Branch and experienced adult delegation leaders. Planning selection events provides our youth leaders with an opportunity to practice and enhance their leadership skills. \n\nApply for Faces\nGet Reference Form for Your Child’s Teacher to Complete\nLearn More About the Selection Process\n\n\n\n\nVolunteers please sign up here to volunteer the day of event or help provide snacks.
URL:https://jacksonville.cisvusa.org/event/faces-fun-day-4/
LOCATION:Hendricks Ave. Baptist Church Fellowship Hall\, 4001 Hendricks Ave.\, Jacksonville\, 32207\, United States
CATEGORIES:Play Dates
ATTACH;FMTTYPE=image/jpeg:https://jacksonville.cisvusa.org/wp-content/uploads/sites/19/2022/08/IMG_20220424_153851655_HDR-scaled.jpg
ORGANIZER;CN="CISV Jacksonville Chapter":MAILTO:cisvjax@gmail.com
GEO:30.2801549;-81.6503397
X-APPLE-STRUCTURED-LOCATION;VALUE=URI;X-ADDRESS=Hendricks Ave. Baptist Church Fellowship Hall 4001 Hendricks Ave. Jacksonville 32207 United States;X-APPLE-RADIUS=500;X-TITLE=4001 Hendricks Ave.:geo:-81.6503397,30.2801549
END:VEVENT
BEGIN:VEVENT
DTSTART;TZID=America/New_York:20240113T090000
DTEND;TZID=America/New_York:20240113T233000
DTSTAMP:20260425T153216
CREATED:20230812T151815Z
LAST-MODIFIED:20240827T195347Z
UID:10000220-1705136400-1705188600@jacksonville.cisvusa.org
SUMMARY:Village and Faces Fun Day #1 2024 & CISV 101
DESCRIPTION:CISV Jacksonville conducts three events to select participants for its Village program (children born between September 1\, 2012\, and August 31\, 2013) and Faces program (4th or 5th-grade students in the 2023-24 school year): \n\nTwo Saturday Morning “Play Days”\nOne Friday Night Overnight (Mandatory)\n\nAttending more events increases the likelihood of selection. The overnight event is mandatory. \nThese selection events offer children a glimpse into CISV games and activities\, provide parents with a deeper understanding of CISV’s educational principles and program specifics\, and allow our chapter to familiarize itself with youth and leader applicants. \nWe also host a CISV “101” Info Session for adults to gain insights into CISV’s principles. \nThe Village and Faces Programs aim to foster understanding\, communication\, cooperation\, and communal living. Selection criteria include a child’s maturity\, openness to new experiences and people\, enthusiasm for participation\, and the ability to be away from family during the program. The composition of personalities within the delegation is also considered for a balanced mix. \nActivities are typically planned and led by teenage leaders from the Junior Branch and experienced adult leaders. Planning selection events enables our chapter’s youth leaders to hone their leadership skills. \nAll Village applicants and their parents will undergo interviews during one of the selection events. While we prefer Village applicants to apply before the event\, those seeking information are welcome to join without applying. \n\nApply for Village\nApply for Faces\nGet Reference Form\nSign Up for Parent Interview (Village Program Only)\nLearn More About the Selection Process\n\n\n\n\n\n\n 
URL:https://jacksonville.cisvusa.org/event/village-faces-fun-day-1-and-cisv-101/
LOCATION:Hendricks Ave. Baptist Church Fellowship Hall\, 4001 Hendricks Ave.\, Jacksonville\, 32207\, United States
CATEGORIES:CISV 101
ATTACH;FMTTYPE=image/jpeg:https://jacksonville.cisvusa.org/wp-content/uploads/sites/19/2022/08/IMG_20220424_153851655_HDR-scaled.jpg
GEO:30.2801549;-81.6503397
X-APPLE-STRUCTURED-LOCATION;VALUE=URI;X-ADDRESS=Hendricks Ave. Baptist Church Fellowship Hall 4001 Hendricks Ave. Jacksonville 32207 United States;X-APPLE-RADIUS=500;X-TITLE=4001 Hendricks Ave.:geo:-81.6503397,30.2801549
END:VEVENT
BEGIN:VEVENT
DTSTART;TZID=America/New_York:20200125T091500
DTEND;TZID=America/New_York:20200125T104500
DTSTAMP:20260425T153216
CREATED:20200104T174501Z
LAST-MODIFIED:20200104T174737Z
UID:10000098-1579943700-1579949100@jacksonville.cisvusa.org
SUMMARY:CISV 101 - 2nd Village Play Date
DESCRIPTION:At a CISV 101\, prospective youth and parents can hear about CISV educational programs from youth and adults who have participated in CISV’s unique educational programs. CISV 101 provides a short orientation about CISV’s educational principles\, history\, programs opportunities\, selection process and volunteer expectations. \nLearn more about CISV with this video: \n \nTo learn more about CISV\, also see our video library here: https://jacksonville.cisvusa.org/cisv-video-library/
URL:https://jacksonville.cisvusa.org/event/cisv-101-2nd-village-play-date/
LOCATION:Hendricks Ave. Baptist Church Fellowship Hall\, 4001 Hendricks Ave.\, Jacksonville\, 32207\, United States
CATEGORIES:CISV 101
ATTACH;FMTTYPE=image/jpeg:https://jacksonville.cisvusa.org/wp-content/uploads/sites/19/2018/11/Village-Group-Shot-Denmark-2014edited.jpg
GEO:30.2801549;-81.6503397
X-APPLE-STRUCTURED-LOCATION;VALUE=URI;X-ADDRESS=Hendricks Ave. Baptist Church Fellowship Hall 4001 Hendricks Ave. Jacksonville 32207 United States;X-APPLE-RADIUS=500;X-TITLE=4001 Hendricks Ave.:geo:-81.6503397,30.2801549
END:VEVENT
BEGIN:VEVENT
DTSTART;TZID=America/New_York:20200125T090000
DTEND;TZID=America/New_York:20200125T120000
DTSTAMP:20260425T153216
CREATED:20191017T050949Z
LAST-MODIFIED:20200101T194141Z
UID:10000097-1579942800-1579953600@jacksonville.cisvusa.org
SUMMARY:2nd Village Fun Date
DESCRIPTION:To select youth for its Village program\, CISV Jacksonville hosts 3 events. \n\n2 Saturday morning “play days”\n1 Friday night overnight\n\nThe more events you attend the greater likelihood you have of being selected.  The overnight is mandatory. \nSelection events are intended to give kids a chance to see what CISV games and activities are like\, to give parents greater understanding of CISV’s educational principles and program details\, and to give our chapter the opportunity to get to know the youth and leader applicants. \nThe goal of the Village Program is to learn about each other’s lives and how to communicate\, cooperate and live together.  Selection is based on a child’s maturity\, openness to new experiences and people\, enthusiasm about participation and ability to be away from family for the duration of the program. Additionally\, the mix of personalities to form the delegation is a factor. It would not be good to put all extreme extroverts together\, for example. \nThe activities are generally planned and lead by the teenage leaders of the Junior Branch and adults who have led delegations in the past.  Having to plan the selection events allows the youth leaders in our chapter to continue to practice their leadership skills. \nAll Village applicants and their parents will be interviewed during one of selection events.  We prefer if youth interested in participating in a Village apply before the selection event but if you are just interested in learning more\, please join us for the events without applying. \nLearn more about the selection process here.
URL:https://jacksonville.cisvusa.org/event/2nd-village-fun-date/
LOCATION:Hendricks Ave. Baptist Church Fellowship Hall\, 4001 Hendricks Ave.\, Jacksonville\, 32207\, United States
ATTACH;FMTTYPE=image/jpeg:https://jacksonville.cisvusa.org/wp-content/uploads/sites/19/2019/10/KRISTINGROup.jpg
GEO:30.2801549;-81.6503397
X-APPLE-STRUCTURED-LOCATION;VALUE=URI;X-ADDRESS=Hendricks Ave. Baptist Church Fellowship Hall 4001 Hendricks Ave. Jacksonville 32207 United States;X-APPLE-RADIUS=500;X-TITLE=4001 Hendricks Ave.:geo:-81.6503397,30.2801549
END:VEVENT
BEGIN:VEVENT
DTSTART;TZID=America/New_York:20200111T090000
DTEND;TZID=America/New_York:20200111T120000
DTSTAMP:20260425T153216
CREATED:20191017T050733Z
LAST-MODIFIED:20191017T050748Z
UID:10000096-1578733200-1578744000@jacksonville.cisvusa.org
SUMMARY:1st Village Fun Day
DESCRIPTION:To select youth for its Village program\, CISV Jacksonville hosts 3 events. \n\n2 Saturday morning “play days”\n1 Friday night overnight\n\nThe more events you attend the greater likelihood you have of being selected.  The overnight is mandatory. \nSelection events are intended to give kids a chance to see what CISV games and activities are like\, to give parents greater understanding of CISV’s educational principles and program details\, and to give our chapter the opportunity to get to know the youth and leader applicants. \nThe goal of the Village Program is to learn about each other’s lives and how to communicate\, cooperate and live together.  Selection is based on a child’s maturity\, openness to new experiences and people\, enthusiasm about participation and ability to be away from family for the duration of the program. Additionally\, the mix of personalities to form the delegation is a factor. It would not be good to put all extreme extroverts together\, for example. \nThe activities are generally planned and lead by the teenage leaders of the Junior Branch and adults who have led delegations in the past.  Having to plan the selection events allows the youth leaders in our chapter to continue to practice their leadership skills. \nAll Village applicants and their parents will be interviewed during one of selection events.  We prefer if youth interested in participating in a Village apply before the selection event but if you are just interested in learning more\, please join us for the events without applying. \nLearn more about the selection process here.
URL:https://jacksonville.cisvusa.org/event/1st-village-fun-day/
LOCATION:Hendricks Ave. Baptist Church Fellowship Hall\, 4001 Hendricks Ave.\, Jacksonville\, 32207\, United States
ATTACH;FMTTYPE=image/jpeg:https://jacksonville.cisvusa.org/wp-content/uploads/sites/19/2018/07/sampledrawingactivity.jpg
GEO:30.2801549;-81.6503397
X-APPLE-STRUCTURED-LOCATION;VALUE=URI;X-ADDRESS=Hendricks Ave. Baptist Church Fellowship Hall 4001 Hendricks Ave. Jacksonville 32207 United States;X-APPLE-RADIUS=500;X-TITLE=4001 Hendricks Ave.:geo:-81.6503397,30.2801549
END:VEVENT
BEGIN:VEVENT
DTSTART;TZID=America/New_York:20190818T153000
DTEND;TZID=America/New_York:20190818T173000
DTSTAMP:20260425T153216
CREATED:20190305T050955Z
LAST-MODIFIED:20190724T172845Z
UID:10000056-1566142200-1566149400@jacksonville.cisvusa.org
SUMMARY:Parent\, Youth & Leader Debrief
DESCRIPTION:This event is for leaders\, youth delegates and their parents who represented the USA at 2019 international programs.
URL:https://jacksonville.cisvusa.org/event/parent-debrief/
LOCATION:Hendricks Ave. Baptist Church Fellowship Hall\, 4001 Hendricks Ave.\, Jacksonville\, 32207\, United States
ATTACH;FMTTYPE=image/jpeg:https://jacksonville.cisvusa.org/wp-content/uploads/sites/19/2018/07/debrief-Group-shot-scaled.jpg
GEO:30.2801549;-81.6503397
X-APPLE-STRUCTURED-LOCATION;VALUE=URI;X-ADDRESS=Hendricks Ave. Baptist Church Fellowship Hall 4001 Hendricks Ave. Jacksonville 32207 United States;X-APPLE-RADIUS=500;X-TITLE=4001 Hendricks Ave.:geo:-81.6503397,30.2801549
END:VEVENT
END:VCALENDAR