BEGIN:VCALENDAR
VERSION:2.0
PRODID:-//Jacksonville - ECPv6.15.20//NONSGML v1.0//EN
CALSCALE:GREGORIAN
METHOD:PUBLISH
X-WR-CALNAME:Jacksonville
X-ORIGINAL-URL:https://jacksonville.cisvusa.org
X-WR-CALDESC:Events for Jacksonville
REFRESH-INTERVAL;VALUE=DURATION:PT1H
X-Robots-Tag:noindex
X-PUBLISHED-TTL:PT1H
BEGIN:VTIMEZONE
TZID:America/New_York
BEGIN:DAYLIGHT
TZOFFSETFROM:-0500
TZOFFSETTO:-0400
TZNAME:EDT
DTSTART:20230312T070000
END:DAYLIGHT
BEGIN:STANDARD
TZOFFSETFROM:-0400
TZOFFSETTO:-0500
TZNAME:EST
DTSTART:20231105T060000
END:STANDARD
BEGIN:DAYLIGHT
TZOFFSETFROM:-0500
TZOFFSETTO:-0400
TZNAME:EDT
DTSTART:20240310T070000
END:DAYLIGHT
BEGIN:STANDARD
TZOFFSETFROM:-0400
TZOFFSETTO:-0500
TZNAME:EST
DTSTART:20241103T060000
END:STANDARD
BEGIN:DAYLIGHT
TZOFFSETFROM:-0500
TZOFFSETTO:-0400
TZNAME:EDT
DTSTART:20250309T070000
END:DAYLIGHT
BEGIN:STANDARD
TZOFFSETFROM:-0400
TZOFFSETTO:-0500
TZNAME:EST
DTSTART:20251102T060000
END:STANDARD
END:VTIMEZONE
BEGIN:VEVENT
DTSTART;TZID=America/New_York:20241203T190000
DTEND;TZID=America/New_York:20241203T200000
DTSTAMP:20260419T132500
CREATED:20240912T183527Z
LAST-MODIFIED:20241202T125715Z
UID:10000273-1733252400-1733256000@jacksonville.cisvusa.org
SUMMARY:CISV 101 Info Session-changed to ZOOM meeting!!!
DESCRIPTION:Are you considering CISV for your child? At CISV 101\, parents and kids who have participated in CISV international and local educational programs share their experiences\, explain the history and goals of CISV. We also discuss what happens at CISV programs and next steps for your child becoming a CISV participant. \nCome learn what CISV is all about!! We will be hosting a ZOOM CISV 101 on December 3rd from 7-8pm! \n*Presentations run about 60-90 minutes long and we encourage you have your child join if they would like to attend. \nPlease RSVP with the link above! \n  \nhttps://us02web.zoom.us/j/4415451151?pwd=YnczUHJ4WExONTU4RWNDQXZDQzhLQT09 \nMeeting ID: 441 545 1151 \nPasscode: 550633 \nOne tap mobile \n+16465588656\,\,4415451151#\,\,\,\,*550633# US (New York) \n+13017158592\,\,4415451151#\,\,\,\,*550633# US (Washington DC) \n 
URL:https://jacksonville.cisvusa.org/event/cisv-101-st-johns-county-location/
LOCATION:Bartram Trail Library\, 60 David Pond Blvd\, Fruit Cove\, FL\, 32259\, United States
CATEGORIES:CISV 101
ATTACH;FMTTYPE=image/jpeg:https://jacksonville.cisvusa.org/wp-content/uploads/sites/19/2021/11/CISV-101-Hero.jpeg
END:VEVENT
END:VCALENDAR