BEGIN:VCALENDAR
VERSION:2.0
PRODID:-//Jacksonville - ECPv6.15.20//NONSGML v1.0//EN
CALSCALE:GREGORIAN
METHOD:PUBLISH
X-WR-CALNAME:Jacksonville
X-ORIGINAL-URL:https://jacksonville.cisvusa.org
X-WR-CALDESC:Events for Jacksonville
REFRESH-INTERVAL;VALUE=DURATION:PT1H
X-Robots-Tag:noindex
X-PUBLISHED-TTL:PT1H
BEGIN:VTIMEZONE
TZID:America/New_York
BEGIN:DAYLIGHT
TZOFFSETFROM:-0500
TZOFFSETTO:-0400
TZNAME:EDT
DTSTART:20250309T070000
END:DAYLIGHT
BEGIN:STANDARD
TZOFFSETFROM:-0400
TZOFFSETTO:-0500
TZNAME:EST
DTSTART:20251102T060000
END:STANDARD
BEGIN:DAYLIGHT
TZOFFSETFROM:-0500
TZOFFSETTO:-0400
TZNAME:EDT
DTSTART:20260308T070000
END:DAYLIGHT
BEGIN:STANDARD
TZOFFSETFROM:-0400
TZOFFSETTO:-0500
TZNAME:EST
DTSTART:20261101T060000
END:STANDARD
BEGIN:DAYLIGHT
TZOFFSETFROM:-0500
TZOFFSETTO:-0400
TZNAME:EDT
DTSTART:20270314T070000
END:DAYLIGHT
BEGIN:STANDARD
TZOFFSETFROM:-0400
TZOFFSETTO:-0500
TZNAME:EST
DTSTART:20271107T060000
END:STANDARD
END:VTIMEZONE
BEGIN:VEVENT
DTSTART;TZID=America/New_York:20260130T190000
DTEND;TZID=America/New_York:20260131T083000
DTSTAMP:20260420T022859
CREATED:20250903T022558Z
LAST-MODIFIED:20251112T023440Z
UID:10000358-1769799600-1769848200@jacksonville.cisvusa.org
SUMMARY:Youth Program Overnight Selection Event
DESCRIPTION:Join us for the mandatory overnight selection event for youth aged 12-17 applying for Step Up\, Youth Meeting\, and Fortnight programs! This essential Friday night experience gives participants a firsthand taste of CISV games\, activities\, and the independence needed for international programs. \nLed by our Junior Branch leaders and experienced adult volunteers\, this supervised overnight maintains a 1:8 adult-to-youth ratio while providing classic CISV experiences. It’s our opportunity to get to know each applicant while giving families deeper insights into CISV’s educational approach and program specifics. \nFor Parents: Join our CISV 101 Presentation (7:15-8:30 pm) featuring stories and insights from past CISV participants and their families. \nApplications & Interviews: All applicants and parents of new applicants will participate in interviews during selection events. Please complete applications before the overnight. APPLY HERE\, \n\nFirst Time Youth Meeting & Step Up Parent Interview Sign-up Here\nFood Item Sign-up Here\nAdult Leader Interview Sign-up- Coming Soon!\n\nContact cisvjax@gmail.com for more information.
URL:https://jacksonville.cisvusa.org/event/youth-program-overnight-selection-event/
LOCATION:RPDS\, 830 Oak St\, jacksonville\, FL\, 32202
ATTACH;FMTTYPE=image/jpeg:https://jacksonville.cisvusa.org/wp-content/uploads/sites/19/2022/08/IMG_0736-scaled.jpg
GEO:30.3157036;-81.6795637
X-APPLE-STRUCTURED-LOCATION;VALUE=URI;X-ADDRESS=RPDS 830 Oak St jacksonville FL 32202;X-APPLE-RADIUS=500;X-TITLE=830 Oak St:geo:-81.6795637,30.3157036
END:VEVENT
END:VCALENDAR