BEGIN:VCALENDAR
VERSION:2.0
PRODID:-//Jacksonville - ECPv6.15.20//NONSGML v1.0//EN
CALSCALE:GREGORIAN
METHOD:PUBLISH
X-WR-CALNAME:Jacksonville
X-ORIGINAL-URL:https://jacksonville.cisvusa.org
X-WR-CALDESC:Events for Jacksonville
REFRESH-INTERVAL;VALUE=DURATION:PT1H
X-Robots-Tag:noindex
X-PUBLISHED-TTL:PT1H
BEGIN:VTIMEZONE
TZID:America/New_York
BEGIN:DAYLIGHT
TZOFFSETFROM:-0500
TZOFFSETTO:-0400
TZNAME:EDT
DTSTART:20240310T070000
END:DAYLIGHT
BEGIN:STANDARD
TZOFFSETFROM:-0400
TZOFFSETTO:-0500
TZNAME:EST
DTSTART:20241103T060000
END:STANDARD
BEGIN:DAYLIGHT
TZOFFSETFROM:-0500
TZOFFSETTO:-0400
TZNAME:EDT
DTSTART:20250309T070000
END:DAYLIGHT
BEGIN:STANDARD
TZOFFSETFROM:-0400
TZOFFSETTO:-0500
TZNAME:EST
DTSTART:20251102T060000
END:STANDARD
BEGIN:DAYLIGHT
TZOFFSETFROM:-0500
TZOFFSETTO:-0400
TZNAME:EDT
DTSTART:20260308T070000
END:DAYLIGHT
BEGIN:STANDARD
TZOFFSETFROM:-0400
TZOFFSETTO:-0500
TZNAME:EST
DTSTART:20261101T060000
END:STANDARD
END:VTIMEZONE
BEGIN:VEVENT
DTSTART;TZID=America/New_York:20250126T100000
DTEND;TZID=America/New_York:20250126T120000
DTSTAMP:20260421T074706
CREATED:20250117T172237Z
LAST-MODIFIED:20250122T225629Z
UID:10000284-1737885600-1737892800@jacksonville.cisvusa.org
SUMMARY:January 2025: Monthly JB Activity
DESCRIPTION:Join the Junior Branch Board for a service activity! We’ll be collecting winter gear to create care packages to distribute to Jacksonville’s local homeless community. \nCollection Drive: Please bring hats\, gloves\, and socks! \n  \n 
URL:https://jacksonville.cisvusa.org/event/january-2025-monthly-jb-activity/
LOCATION:The Corner at Debs\, 1478 Florida Ave\, Jacksonville\, FL\, 32206\, United States
CATEGORIES:JB Monthly Activity
ATTACH;FMTTYPE=image/jpeg:https://jacksonville.cisvusa.org/wp-content/uploads/sites/19/2023/01/IMG-20220605-WA0013-e1673827239671.jpg
ORGANIZER;CN="CISV Jacksonville Chapter":MAILTO:cisvjax@gmail.com
END:VEVENT
BEGIN:VEVENT
DTSTART;TZID=America/New_York:20250131T190000
DTEND;TZID=America/New_York:20250201T083000
DTSTAMP:20260421T074706
CREATED:20240825T025947Z
LAST-MODIFIED:20240828T002328Z
UID:10000259-1738350000-1738398600@jacksonville.cisvusa.org
SUMMARY:Ages 12-17 Overnight 2025 & CISV 101
DESCRIPTION:Youth Program Selection Event\nJoin us for the CISV Jacksonville overnight event to select youth aged 12-17 for Step Up\, Youth Meeting\, and Fortnight programs. \nEvent Purpose: \n\nProvide youth with a firsthand experience of CISV games and activities\nEnhance parents’ understanding of CISV’s educational principles and program specifics\nEnable our chapter to get to know youth and leader applicants\n\nAdditional Offerings: \n\nCISV 101 Presentation: An introductory session from 7:15-8:30 pm by past CISV participants and their parents.\n\nOvernight Chaperoning: \n\nYouth will be chaperoned at the overnight event\, maintaining a 1 adult to 8 youth ratio.\n\nApplication and Interview Sign-ups: \n\nApply for a program using the appropriate form:\n\nVillage\, Youth Meeting\, or Step Up\, apply with this form.\n\n\nSubmit references.  Have 2 adults who know you well complete this reference form.\nParents of youth applying for Step Up or Youth Meeting\, sign up for an interview here.\nParents of youth applying for any program\, sign up to bring a food item here.\nAdults applying to lead a program\, sign up for an interview here.\n\nLearn More: \n\nLearn more about the CISV Selection Process here. \n\nProgram Videos: \n\nWatch the Step Up Video
URL:https://jacksonville.cisvusa.org/event/ages-12-17-overnight-2025-cisv-101/
LOCATION:RPDS\, 830 Oak St\, jacksonville\, FL\, 32202
CATEGORIES:CISV 101
ATTACH;FMTTYPE=image/jpeg:https://jacksonville.cisvusa.org/wp-content/uploads/sites/19/2023/07/Interchange-at-Airport.jpg
ORGANIZER;CN="CISV Jacksonville Chapter":MAILTO:cisvjax@gmail.com
GEO:30.3157036;-81.6795637
X-APPLE-STRUCTURED-LOCATION;VALUE=URI;X-ADDRESS=RPDS 830 Oak St jacksonville FL 32202;X-APPLE-RADIUS=500;X-TITLE=830 Oak St:geo:-81.6795637,30.3157036
END:VEVENT
BEGIN:VEVENT
DTSTART;TZID=America/New_York:20250201T080000
DTEND;TZID=America/New_York:20250201T130000
DTSTAMP:20260421T074706
CREATED:20250117T170418Z
LAST-MODIFIED:20250117T170609Z
UID:10000283-1738396800-1738414800@jacksonville.cisvusa.org
SUMMARY:2025 MLK Day of Service with City Year Jacksonville
DESCRIPTION:PLEASE REGISTER THROUGH THE CITY YEAR LINK BELOW. \nDear CISV Jacksonville Community\, \nWe are delighted to share that\, for this year’s Martin Luther King Jr. Day\, our Junior Branch has chosen to participate in City Year Jacksonville’s annual MLK Day of Service. The focus of our volunteer efforts will be a campus beautification project at San Jose Elementary School\, one of the schools where AmeriCorps Members from our organization serve. \nHere’s what you need to do: \n\nRegister on City Year’s Official Event Page: When registering\, list “CISV Jacksonville” under “Company.” In the “Additional Comments” section\, mention the age of any youth volunteers. This information will aid City Year in assigning tasks appropriately. You can register on their event page here.\n\nRegister at this link OR: https://support.cityyear.org/event/city-year-jax-mlk-day-2025/e648510 \nFor any inquiries\, please contact us at cisvjax@gmail.com. \nThank you for your participation!
URL:https://jacksonville.cisvusa.org/event/2025-mlk-day-of-service-with-city-year-jacksonville/
LOCATION:San Jose Elementary School\, 5805 St Augustine Rd\, Jacksonville\, 32207\, United States
CATEGORIES:JB Monthly Activity
ATTACH;FMTTYPE=image/jpeg:https://jacksonville.cisvusa.org/wp-content/uploads/sites/19/2023/12/10142887885_d38f08eb66_b.jpg
ORGANIZER;CN="CISV Jacksonville Chapter":MAILTO:cisvjax@gmail.com
END:VEVENT
END:VCALENDAR