BEGIN:VCALENDAR
VERSION:2.0
PRODID:-//Jacksonville - ECPv6.15.20//NONSGML v1.0//EN
CALSCALE:GREGORIAN
METHOD:PUBLISH
X-WR-CALNAME:Jacksonville
X-ORIGINAL-URL:https://jacksonville.cisvusa.org
X-WR-CALDESC:Events for Jacksonville
REFRESH-INTERVAL;VALUE=DURATION:PT1H
X-Robots-Tag:noindex
X-PUBLISHED-TTL:PT1H
BEGIN:VTIMEZONE
TZID:America/New_York
BEGIN:DAYLIGHT
TZOFFSETFROM:-0500
TZOFFSETTO:-0400
TZNAME:EDT
DTSTART:20230312T070000
END:DAYLIGHT
BEGIN:STANDARD
TZOFFSETFROM:-0400
TZOFFSETTO:-0500
TZNAME:EST
DTSTART:20231105T060000
END:STANDARD
BEGIN:DAYLIGHT
TZOFFSETFROM:-0500
TZOFFSETTO:-0400
TZNAME:EDT
DTSTART:20240310T070000
END:DAYLIGHT
BEGIN:STANDARD
TZOFFSETFROM:-0400
TZOFFSETTO:-0500
TZNAME:EST
DTSTART:20241103T060000
END:STANDARD
BEGIN:DAYLIGHT
TZOFFSETFROM:-0500
TZOFFSETTO:-0400
TZNAME:EDT
DTSTART:20250309T070000
END:DAYLIGHT
BEGIN:STANDARD
TZOFFSETFROM:-0400
TZOFFSETTO:-0500
TZNAME:EST
DTSTART:20251102T060000
END:STANDARD
END:VTIMEZONE
BEGIN:VEVENT
DTSTART;TZID=America/New_York:20241025T190000
DTEND;TZID=America/New_York:20241027T140000
DTSTAMP:20260422T191304
CREATED:20240317T142448Z
LAST-MODIFIED:20240810T182942Z
UID:10000245-1729882800-1730037600@jacksonville.cisvusa.org
SUMMARY:CISV Connect - National Meeting
DESCRIPTION:CISV USA will host an in-person national meeting for the Junior Branch and adult volunteers on the weekend of October 25-27 in Nashville\, Tennessee.\nJB Board members and adult volunteers should mark their calendars for an exciting weekend of educational sessions\, best practices sharing and fun times with fellow CISV enthusiasts.\nWho should go?  \nThe National Meeting is open to all Chapter Members – new and veteran! Whether you’ve been in the chapter for years\, a new board member\, or a new family\, this is wonderful opportunity to meet CISVers around the country. \n\nMandatory to attend: Local Junior Representatives (presidents of the Junior Branch)\nMandatory to attend: President and President Elect\nYouth 11 years old and up are welcome! However\, most of the youth content are targeted towards high school aged Junior Branch members.\n\nYou can find Info Pack #1 at this link and Info Pack #2 at this link.  \nRegister here.
URL:https://jacksonville.cisvusa.org/event/cisv-connect-national-meeting/
LOCATION:FL
ATTACH;FMTTYPE=image/jpeg:https://jacksonville.cisvusa.org/wp-content/uploads/sites/19/2024/03/SRMC23Selfie-e1710687910902.jpeg
END:VEVENT
END:VCALENDAR