BEGIN:VCALENDAR
VERSION:2.0
PRODID:-//Jacksonville - ECPv6.15.20//NONSGML v1.0//EN
CALSCALE:GREGORIAN
METHOD:PUBLISH
X-WR-CALNAME:Jacksonville
X-ORIGINAL-URL:https://jacksonville.cisvusa.org
X-WR-CALDESC:Events for Jacksonville
REFRESH-INTERVAL;VALUE=DURATION:PT1H
X-Robots-Tag:noindex
X-PUBLISHED-TTL:PT1H
BEGIN:VTIMEZONE
TZID:America/New_York
BEGIN:DAYLIGHT
TZOFFSETFROM:-0500
TZOFFSETTO:-0400
TZNAME:EDT
DTSTART:20240310T070000
END:DAYLIGHT
BEGIN:STANDARD
TZOFFSETFROM:-0400
TZOFFSETTO:-0500
TZNAME:EST
DTSTART:20241103T060000
END:STANDARD
BEGIN:DAYLIGHT
TZOFFSETFROM:-0500
TZOFFSETTO:-0400
TZNAME:EDT
DTSTART:20250309T070000
END:DAYLIGHT
BEGIN:STANDARD
TZOFFSETFROM:-0400
TZOFFSETTO:-0500
TZNAME:EST
DTSTART:20251102T060000
END:STANDARD
BEGIN:DAYLIGHT
TZOFFSETFROM:-0500
TZOFFSETTO:-0400
TZNAME:EDT
DTSTART:20260308T070000
END:DAYLIGHT
BEGIN:STANDARD
TZOFFSETFROM:-0400
TZOFFSETTO:-0500
TZNAME:EST
DTSTART:20261101T060000
END:STANDARD
END:VTIMEZONE
BEGIN:VEVENT
DTSTART;TZID=America/New_York:20250207T190000
DTEND;TZID=America/New_York:20250208T083000
DTSTAMP:20260419T183738
CREATED:20240828T011638Z
LAST-MODIFIED:20240828T015208Z
UID:10000263-1738954800-1739003400@jacksonville.cisvusa.org
SUMMARY:Village and FACES Overnight 2025 & CISV 101
DESCRIPTION:Event Purpose:\n\nProvide youth with a firsthand experience of CISV games and activities\nEnhance parents’ understanding of CISV’s educational principles and program specifics\nEnable our chapter to get to know youth and leader applicants\n\nAdditional Offerings:\n\n\nCISV Parent Mini-Minicamp: An introductory session from 7:30-9:30 pm providing adults with the chance to engage in activities similar to those conducted at camp.\n\n\nApplications:\nPlease ensure your application is completed before the overnight event.\n\n\nApply for a program using this form.\n\n\nSubmit references.  Have 2 adults who know you well complete this reference form.\n\n\nParent and Youth Interviews:\nAll Village applicants and their parents will undergo interviews during one of the selection events.\n\n\nParents of youth applying for Village\, sign up to bring a food item here and schedule a Village parent interview here.\n\n\nAdults applying to lead a program\, sign up for an interview here.\n\n\nOvernight Chaperoning:\n\n\nYouth will be chaperoned at the overnight event\, maintaining a 1 adult to 8 youth ratio.\n\n\nThe events will be organized and led by teenage leaders from the Junior Branch and experienced adult delegation leaders. Planning selection events serves as a platform for our youth leaders to further develop their leadership skills.\n\n\nLearn More:\n\n\nLearn more about the CISV Selection Process here. \n\n\nProgram Videos:\n\n\nWatch Village Video
URL:https://jacksonville.cisvusa.org/event/village-and-faces-overnight-2025-cisv-101/
LOCATION:RPDS\, 830 Oak St\, jacksonville\, FL\, 32202
CATEGORIES:CISV 101,Play Dates
ATTACH;FMTTYPE=image/jpeg:https://jacksonville.cisvusa.org/wp-content/uploads/sites/19/2022/08/RPCcropped24-scaled.jpg
ORGANIZER;CN="CISV Jacksonville Chapter":MAILTO:cisvjax@gmail.com
GEO:30.3157036;-81.6795637
X-APPLE-STRUCTURED-LOCATION;VALUE=URI;X-ADDRESS=RPDS 830 Oak St jacksonville FL 32202;X-APPLE-RADIUS=500;X-TITLE=830 Oak St:geo:-81.6795637,30.3157036
END:VEVENT
END:VCALENDAR