BEGIN:VCALENDAR
VERSION:2.0
PRODID:-//Jacksonville - ECPv6.15.20//NONSGML v1.0//EN
CALSCALE:GREGORIAN
METHOD:PUBLISH
X-WR-CALNAME:Jacksonville
X-ORIGINAL-URL:https://jacksonville.cisvusa.org
X-WR-CALDESC:Events for Jacksonville
REFRESH-INTERVAL;VALUE=DURATION:PT1H
X-Robots-Tag:noindex
X-PUBLISHED-TTL:PT1H
BEGIN:VTIMEZONE
TZID:America/New_York
BEGIN:DAYLIGHT
TZOFFSETFROM:-0500
TZOFFSETTO:-0400
TZNAME:EDT
DTSTART:20180311T070000
END:DAYLIGHT
BEGIN:STANDARD
TZOFFSETFROM:-0400
TZOFFSETTO:-0500
TZNAME:EST
DTSTART:20181104T060000
END:STANDARD
BEGIN:DAYLIGHT
TZOFFSETFROM:-0500
TZOFFSETTO:-0400
TZNAME:EDT
DTSTART:20190310T070000
END:DAYLIGHT
BEGIN:STANDARD
TZOFFSETFROM:-0400
TZOFFSETTO:-0500
TZNAME:EST
DTSTART:20191103T060000
END:STANDARD
BEGIN:DAYLIGHT
TZOFFSETFROM:-0500
TZOFFSETTO:-0400
TZNAME:EDT
DTSTART:20200308T070000
END:DAYLIGHT
BEGIN:STANDARD
TZOFFSETFROM:-0400
TZOFFSETTO:-0500
TZNAME:EST
DTSTART:20201101T060000
END:STANDARD
BEGIN:DAYLIGHT
TZOFFSETFROM:-0500
TZOFFSETTO:-0400
TZNAME:EDT
DTSTART:20210314T070000
END:DAYLIGHT
BEGIN:STANDARD
TZOFFSETFROM:-0400
TZOFFSETTO:-0500
TZNAME:EST
DTSTART:20211107T060000
END:STANDARD
BEGIN:DAYLIGHT
TZOFFSETFROM:-0500
TZOFFSETTO:-0400
TZNAME:EDT
DTSTART:20220313T070000
END:DAYLIGHT
BEGIN:STANDARD
TZOFFSETFROM:-0400
TZOFFSETTO:-0500
TZNAME:EST
DTSTART:20221106T060000
END:STANDARD
BEGIN:DAYLIGHT
TZOFFSETFROM:-0500
TZOFFSETTO:-0400
TZNAME:EDT
DTSTART:20230312T070000
END:DAYLIGHT
BEGIN:STANDARD
TZOFFSETFROM:-0400
TZOFFSETTO:-0500
TZNAME:EST
DTSTART:20231105T060000
END:STANDARD
BEGIN:DAYLIGHT
TZOFFSETFROM:-0500
TZOFFSETTO:-0400
TZNAME:EDT
DTSTART:20240310T070000
END:DAYLIGHT
BEGIN:STANDARD
TZOFFSETFROM:-0400
TZOFFSETTO:-0500
TZNAME:EST
DTSTART:20241103T060000
END:STANDARD
BEGIN:DAYLIGHT
TZOFFSETFROM:-0500
TZOFFSETTO:-0400
TZNAME:EDT
DTSTART:20250309T070000
END:DAYLIGHT
BEGIN:STANDARD
TZOFFSETFROM:-0400
TZOFFSETTO:-0500
TZNAME:EST
DTSTART:20251102T060000
END:STANDARD
BEGIN:DAYLIGHT
TZOFFSETFROM:-0500
TZOFFSETTO:-0400
TZNAME:EDT
DTSTART:20260308T070000
END:DAYLIGHT
BEGIN:STANDARD
TZOFFSETFROM:-0400
TZOFFSETTO:-0500
TZNAME:EST
DTSTART:20261101T060000
END:STANDARD
END:VTIMEZONE
BEGIN:VEVENT
DTSTART;TZID=America/New_York:20190126T120000
DTEND;TZID=America/New_York:20190126T133000
DTSTAMP:20260419T213858
CREATED:20181230T200429Z
LAST-MODIFIED:20181230T202008Z
UID:10000076-1548504000-1548509400@jacksonville.cisvusa.org
SUMMARY:Cook-off for Jan Jr Branch Activity
DESCRIPTION:You’re invited for a cook-off with the CISV Junior Branch.\nRegister to bring a sweet or savory dish.\n$7 entry fee goes to support the Jr. Branch. Click here to pay by PayPal or bring your fee to the event.
URL:https://jacksonville.cisvusa.org/event/cook-off-for-jan-jr-branch-activity/
LOCATION:Shepherd of the Woods – Southside\, 7860 Southside Blvd\, Jacksonville\, FL\, 32256\, United States
ATTACH;FMTTYPE=image/jpeg:https://jacksonville.cisvusa.org/wp-content/uploads/sites/19/2018/08/elsavsem.jpg
GEO:30.2275459;-81.5536365
X-APPLE-STRUCTURED-LOCATION;VALUE=URI;X-ADDRESS=Shepherd of the Woods – Southside 7860 Southside Blvd Jacksonville FL 32256 United States;X-APPLE-RADIUS=500;X-TITLE=7860 Southside Blvd:geo:-81.5536365,30.2275459
END:VEVENT
BEGIN:VEVENT
DTSTART;TZID=America/New_York:20190215T190000
DTEND;TZID=America/New_York:20190218T110000
DTSTAMP:20260419T213858
CREATED:20180721T234118Z
LAST-MODIFIED:20190212T045950Z
UID:10000011-1550257200-1550487600@jacksonville.cisvusa.org
SUMMARY:CISV Jax JB Winter Minicamp
DESCRIPTION:Spy’s Susan Cooper\nClick on James Bond to pay for minicamp\n\n\n\nClick on Spy vs Spy for info on CISV’s Conflict & Resolution Educational Principle\n\n\n\nWhat is Mini Camp?\nMini Camp is an incredible weekend; jam-packed with fun CISV activities\, top notch educational content\, awesome people\, energizers galore\, and so much more! Our awesome CISV Jacksonville Junior Branch Board are planning an amazing mini camp for you. \nFun theme: Spies\nSerious theme: Conflict and Resolution\nSince many of the participants are from different schools\, the minicamp will start with “name games” and other “getting to know you activities so don’t worry about not knowing anyone when the camp begins. Saturday and Sunday will be full days with 4-5 activities surrounding this theme. Each activity will be followed by a “debrief” where we discuss our “attitudes\, skills and knowledge” that have been changed or influenced by the activity. \nHow do I register?\nEmail colesjp@gmail.com if you would like to register and he will send you the registration link.  We have still have space available.  Please join us!\nHow much does it cost?\n$150 if you register by Feb 1. The camp fills quickly and registrations may not be available after Feb 1. Any late registration would be $175. Several partial scholarships may be available based on need. Contact POC at the bottom for details. Note\, camp fees include food and housing for the long weekend. \nHow do I pay the registration fee?\nClick here to pay by PayPal on or after Feb 1. You have the option to mail a check payable to CISV Jacksonville to 1650 Margaret St\, Suite 302\, PMB #279 Jacksonville\, FL 32204. ** Checks must be received by Feb 1st. We request you let us know if mailing a check. \nIf you are interested in scholarship assistance for minicamp fees\, please email colesjp@gmail.com. \nWhat are the ages?\nMini Camp is open to participants ages 10 to 21 and adult chaperones. \nWhat is the Winter Minicamp location?\nCamp St. John in Saint Johns County\, Florida \nWhat is the camp address?\n235 Marywood Drive St. Johns\, FL 32259 (off SR13\, 3 miles south of Racetrack Rd.) \nWhat is the campsite?\nCamp St. John is a part of the Marywood Retreat and Conference Center operated by the Catholic Diocese of St. Augustine. Marywood Retreat and Conference Center rests on the St. Johns River just minutes from Jacksonville and St. Augustine. Its 100 acres of beautiful tranquility is accented with towering live oak trees and gardens making it a perfect environment for any type of gathering. More info here: https://marywoodcenter.org/camp-st-john/ \nWhat are the transportation arrangements for Jacksonville?\nAs the camp is local\, we will not be organizing any formal carpools to and from the camp. Informal carpools are encouraged. We do need to know on your registration form\, who will be picking up your camper on Monday. \nWhat should I bring?\n• A snack to share. Don’t bring snacks that need to be refrigerated\n• Comfy clothes you can move in\n• Dress for the weather! It can be cool in Feb. Enough for 3 days\n• Sleeping bag or sheets and blanket. Extra blanket if cool.\n• Pillow\n• Towels\n• Shower shoes or flip flops\n• Closed toe shoes/sneakers/running shoes\n• Cup\, plate\, bowl\, fork\, spoon for meals (we will wash & reuse)\n• Toiletries (toothbrush\, toothpaste\, soap\, deodorant\, etc.)\n• Sunscreen and bug spray\n• Reusable water bottle\n• Flashlight\n• Raincoat\n• A smile! \nWhat are other issues to know?\n• Arrival should be between 7-9pm on Friday night to Camp St. John\n• Arrive having already eaten dinner\n• Departure: We will leave the camp around 11:00 am on Monday\n• Meals will be provided from Saturday breakfast to Monday breakfast and that price will be included in the cost.\n• Camp T-shirts are included in the registration fee \nWhat are CISV’s behavior guidelines?\nPlease read the R-07 Behavior Policy at www.cisv.org/assets/R-07_Behaviour_Policy \nQuestions before camp?\nJust e-mail us. We are happy to help. \nWho is planning activities at the camp?\nThe Junior Branch Board Members of the CISV Jacksonville plan and run the activities. \nQuestions during camp?\nAdult chaperones will be present. Should you need to reach a chaperone: \ncontact Jay Coles mobile: 904 652 4262\, colesjp@gmail.com or \nJoanna Simpson at 617 416 5844 \nClick here for a printable version of this information.\nSee a vintage video about what happens at a minicamp here.
URL:https://jacksonville.cisvusa.org/event/cisv-jax-jb-winter-minicamp/
LOCATION:Camp St. Johns at Marywood Retreat Center\, 235 Marywood Dr\,\, St Johns\, FL\, 32259\, United States
ATTACH;FMTTYPE=image/jpeg:https://jacksonville.cisvusa.org/wp-content/uploads/sites/19/2018/07/Group-Shotcropp.jpg
ORGANIZER;CN="CISV Jacksonville Chapter":MAILTO:cisvjax@gmail.com
GEO:30.0842373;-81.6369037
X-APPLE-STRUCTURED-LOCATION;VALUE=URI;X-ADDRESS=Camp St. Johns at Marywood Retreat Center 235 Marywood Dr St Johns FL 32259 United States;X-APPLE-RADIUS=500;X-TITLE=235 Marywood Dr\,:geo:-81.6369037,30.0842373
END:VEVENT
BEGIN:VEVENT
DTSTART;TZID=America/New_York:20241103T130000
DTEND;TZID=America/New_York:20241103T160000
DTSTAMP:20260419T213858
CREATED:20240810T174603Z
LAST-MODIFIED:20241023T212039Z
UID:10000252-1730638800-1730649600@jacksonville.cisvusa.org
SUMMARY:November JB Activity & Fall General Meeting 2024
DESCRIPTION:Join CISV for its Fall General Meeting!\nThis event will\n\n\ncelebrate and recognize the Jacksonville youth and leaders that represented of the USA at 2024 CISV programs\,\n\n\nannounce upcoming events\, and\n\n\nannounce 2025 program dates and destinations\n\n\nLearn more about the 2025 program opportunities!\nWhat to expect:\n\n1pm-2pm The Junior Branch Board will be hosting activities which will include a running game and a slime making activity. They are also collecting donations for their food drive which can be dropped off anytime during the meeting. See what they need here: https://www.signupgenius.com/go/8050544ADAC2AA3FE3-51039770-november?useFullSite=true#/\n2pm The Fall Meeting for adults and youth will start! This will include celebrating the youth and leaders who attended camp in summer 2024\, hearing about their camp experiences\, and announcing next year’s dates!
URL:https://jacksonville.cisvusa.org/event/fall-general-meeting-2024/
LOCATION:Bolles Middle School Bartram Campus – Auditorium\, 2264 Bartram Rd\, Jacksonville\, fl\, 32207
CATEGORIES:JB Monthly Activity
ATTACH;FMTTYPE=image/jpeg:https://jacksonville.cisvusa.org/wp-content/uploads/sites/19/2024/08/GroupPhoto-scaled.jpg
GEO:30.3038278;-81.6050834
X-APPLE-STRUCTURED-LOCATION;VALUE=URI;X-ADDRESS=Bolles Middle School Bartram Campus – Auditorium 2264 Bartram Rd Jacksonville fl 32207;X-APPLE-RADIUS=500;X-TITLE=2264 Bartram Rd:geo:-81.6050834,30.3038278
END:VEVENT
BEGIN:VEVENT
DTSTART;TZID=America/New_York:20250111T090000
DTEND;TZID=America/New_York:20250111T113000
DTSTAMP:20260419T213858
CREATED:20240824T193236Z
LAST-MODIFIED:20250103T203445Z
UID:10000255-1736586000-1736595000@jacksonville.cisvusa.org
SUMMARY:Village/Faces Fun Day #1 2025 & CISV 101
DESCRIPTION:CISV Jacksonville conducts three events to select participants for its Village program (children born between September 1\, 2013\, and August 31\, 2014) and Faces program (4th or 5th-grade students in the 2024-25 school year): \n\nTwo Saturday Morning “Play Days”\nOne Friday Night Overnight (Mandatory)\n\nAttending more events increases the likelihood of selection. The overnight event is mandatory. \nThese selection events offer children a glimpse into CISV games and activities\, provide parents with a deeper understanding of CISV’s educational principles and program specifics\, and allow our chapter to familiarize itself with youth and leader applicants. \nWe also host a CISV “101” Info Session for adults to gain insights into CISV’s principles. \nThe Village and Faces Programs aim to foster understanding\, communication\, cooperation\, and communal living. Selection criteria include a child’s maturity\, openness to new experiences and people\, enthusiasm for participation\, and the ability to be away from family during the program. The composition of personalities within the delegation is also considered for a balanced mix. \nActivities are typically planned and led by teenage leaders from the Junior Branch and experienced adult leaders. Planning selection events enables our chapter’s youth leaders to hone their leadership skills. \nAll Village applicants and their parents will undergo interviews during one of the selection events. While we prefer Village applicants to apply before the event\, those seeking information are welcome to join without applying. \n\nApply for Village\nApply for Faces\nGet Reference Form\nSign Up for Parent Interview (Village Program Only)\nLearn More About the Selection Process\n\n\n\n\n\n\n  \n\n\n			\n	Junior Counselors from Sweden\, France\, USA to Jax Village 2019China Delegation to Jax Village 2019Brazil Delegation to 2019 Jax VillageUSA Delegation from Jax Village 2019Iceland Delegation from Jax Village 2019Vietnam Delegation at Jax Village 2019Austria Delegation at Jax Village 2019Portugal Delegation from Jax Village 2019Canadian Delegation from Jax Village 2019Poland Delegation at Jax VillageMexico Delegation from Jax Village 2019
URL:https://jacksonville.cisvusa.org/event/village-faces-fun-day-1-2025-cisv-101/
LOCATION:Hendricks Ave. Baptist Church Fellowship Hall\, 4001 Hendricks Ave.\, Jacksonville\, 32207\, United States
CATEGORIES:CISV 101,Play Dates
ATTACH;FMTTYPE=image/jpeg:https://jacksonville.cisvusa.org/wp-content/uploads/sites/19/2024/08/HendricksAvePD-e1724527944909.jpeg
ORGANIZER;CN="CISV Jacksonville Chapter":MAILTO:cisvjax@gmail.com
GEO:30.2801549;-81.6503397
X-APPLE-STRUCTURED-LOCATION;VALUE=URI;X-ADDRESS=Hendricks Ave. Baptist Church Fellowship Hall 4001 Hendricks Ave. Jacksonville 32207 United States;X-APPLE-RADIUS=500;X-TITLE=4001 Hendricks Ave.:geo:-81.6503397,30.2801549
END:VEVENT
END:VCALENDAR