BEGIN:VCALENDAR
VERSION:2.0
PRODID:-//Jacksonville - ECPv6.15.20//NONSGML v1.0//EN
CALSCALE:GREGORIAN
METHOD:PUBLISH
X-WR-CALNAME:Jacksonville
X-ORIGINAL-URL:https://jacksonville.cisvusa.org
X-WR-CALDESC:Events for Jacksonville
REFRESH-INTERVAL;VALUE=DURATION:PT1H
X-Robots-Tag:noindex
X-PUBLISHED-TTL:PT1H
BEGIN:VTIMEZONE
TZID:America/New_York
BEGIN:DAYLIGHT
TZOFFSETFROM:-0500
TZOFFSETTO:-0400
TZNAME:EDT
DTSTART:20240310T070000
END:DAYLIGHT
BEGIN:STANDARD
TZOFFSETFROM:-0400
TZOFFSETTO:-0500
TZNAME:EST
DTSTART:20241103T060000
END:STANDARD
BEGIN:DAYLIGHT
TZOFFSETFROM:-0500
TZOFFSETTO:-0400
TZNAME:EDT
DTSTART:20250309T070000
END:DAYLIGHT
BEGIN:STANDARD
TZOFFSETFROM:-0400
TZOFFSETTO:-0500
TZNAME:EST
DTSTART:20251102T060000
END:STANDARD
BEGIN:DAYLIGHT
TZOFFSETFROM:-0500
TZOFFSETTO:-0400
TZNAME:EDT
DTSTART:20260308T070000
END:DAYLIGHT
BEGIN:STANDARD
TZOFFSETFROM:-0400
TZOFFSETTO:-0500
TZNAME:EST
DTSTART:20261101T060000
END:STANDARD
END:VTIMEZONE
BEGIN:VEVENT
DTSTART;TZID=America/New_York:20251003T150000
DTEND;TZID=America/New_York:20251005T140000
DTSTAMP:20260422T204959
CREATED:20250901T165344Z
LAST-MODIFIED:20250901T170330Z
UID:10000351-1759503600-1759672800@jacksonville.cisvusa.org
SUMMARY:Southern Regional Mini Camp (SRMC) - Miami 2025
DESCRIPTION:Join CISV youth from across the Southeast region for an exciting weekend at the Southern Regional Mini Camp hosted by CISV Miami! This 2-3 day adventure in Homestead\, Florida brings together young people ages 10-17 from Jacksonville\, Miami\, Atlanta\, Chattanooga\, and Smoky Mountains chapters. \nExperience what CISV is all about through fun activities\, educational workshops\, and meaningful connections that build cross-cultural understanding and friendship. Whether you’re a CISV veteran or new to our programs\, SRMC offers an incredible opportunity to make lasting friendships while working toward a more peaceful world. \nInterested Jacksonville members should contact jacksonville@cisvusa.org for registration details and more information.
URL:https://jacksonville.cisvusa.org/event/southern-regional-mini-camp-srmc-miami-2025/
LOCATION:FL
ATTACH;FMTTYPE=image/jpeg:https://jacksonville.cisvusa.org/wp-content/uploads/sites/19/2025/09/srmc.jpg
END:VEVENT
BEGIN:VEVENT
DTSTART;TZID=America/New_York:20251008T180000
DTEND;TZID=America/New_York:20251008T200000
DTSTAMP:20260422T204959
CREATED:20250923T001608Z
LAST-MODIFIED:20250923T002237Z
UID:10000359-1759946400-1759953600@jacksonville.cisvusa.org
SUMMARY:CISV 101 Info Session Downtown Eastside Location
DESCRIPTION:Are you considering CISV for your child? At CISV 101\, parents and kids who have participated in CISV international and local educational programs share their experiences\, explain the history and goals of CISV. We also discuss what happens at CISV programs and next steps for your child becoming a CISV participant. \nCome learn what CISV is all about!! We will be hosting a CISV 101 at Kids Hope Alliance \n*Presentations run about 60-90 minutes long and we encourage you to bring your child if they would like to attend. \nPlease RSVP with the link above!
URL:https://jacksonville.cisvusa.org/event/cisv-101-info-session-downtown-location/
LOCATION:Kids Hope Alliance\, 1095 A. Phillip Randolph Blvd\, Jacksonville\, FL\, 32206
CATEGORIES:CISV 101
ATTACH;FMTTYPE=image/jpeg:https://jacksonville.cisvusa.org/wp-content/uploads/sites/19/2021/11/CISV-101-Hero.jpeg
GEO:30.336218;-81.6422509
X-APPLE-STRUCTURED-LOCATION;VALUE=URI;X-ADDRESS=Kids Hope Alliance 1095 A. Phillip Randolph Blvd Jacksonville FL 32206;X-APPLE-RADIUS=500;X-TITLE=1095 A. Phillip Randolph Blvd:geo:-81.6422509,30.336218
END:VEVENT
BEGIN:VEVENT
DTSTART;TZID=America/New_York:20251012T120000
DTEND;TZID=America/New_York:20251012T140000
DTSTAMP:20260422T204959
CREATED:20251003T182318Z
LAST-MODIFIED:20251004T134043Z
UID:10000360-1760270400-1760277600@jacksonville.cisvusa.org
SUMMARY:🎃 Haunted House of Challenges & Trunk or Treat 🎃
DESCRIPTION:Join us for a spook-tacular October event combining teamwork challenges with Halloween fun! \nEvent Overview: The Haunted House of Challenges is an exciting partner-based activity designed to build teamwork\, communication\, and trust. Participants will be paired up and take turns being blindfolded while their partner guides them through a series of thrilling challenges! \nChallenge Stations: \n\nString Obstacle Course – Navigate a tricky path with only your partner’s directions\nMonster Impressions – Create your best spooky sounds and creatures\nCandy Corn Tower Building – Stack ’em high without seeing!\nCandy Bag Decorating – Design your perfect trick-or-treat bag\nHaunted Bridge Crossing – Make it across with teamwork and trust\n\nTrunk or Treat Finale: While the kids rotate through stations\, parents will set up their vehicles for Trunk or Treat! Once everyone has completed all challenges\, we’ll wrap up with traditional Trunk or Treat fun where kids can collect candy from decorated car trunks. \nParents: Please sign up to bring candy for Trunk or Treat:https://www.signupgenius.com/go/10C0A4BAEAB2BA3FBC34-59072601-cisv#/ \nWhat to Bring: \n\nComfortable clothes for active play\nA positive attitude and teamwork spirit\n(Optional) Halloween costumes for extra fun!\n\nWe can’t wait to see everyone there for this frightfully fun event!
URL:https://jacksonville.cisvusa.org/event/%f0%9f%8e%83-haunted-house-of-challenges-trunk-or-treat-%f0%9f%8e%83/
LOCATION:South Beach Park and Sunshine Playground\, 2514 S Beach Pkwy\, Jacksonville Beach\, FL\, 32250\, United States
ATTACH;FMTTYPE=image/jpeg:https://jacksonville.cisvusa.org/wp-content/uploads/sites/19/2023/09/istockphoto-187089518-612x612-1.jpg
END:VEVENT
BEGIN:VEVENT
DTSTART;TZID=America/New_York:20251018T130000
DTEND;TZID=America/New_York:20251018T150000
DTSTAMP:20260422T204959
CREATED:20251004T133401Z
LAST-MODIFIED:20251102T153446Z
UID:10000361-1760792400-1760799600@jacksonville.cisvusa.org
SUMMARY:CISV 101 Info Session Beaches Location
DESCRIPTION:Are you considering CISV for your child? At CISV 101\, parents and kids who have participated in CISV international and local educational programs share their experiences\, explain the history and goals of CISV. We also discuss what happens at CISV programs and next steps for your child becoming a CISV participant. \nCome learn what CISV is all about!! We will be hosting a CISV 101 at Green Room \n*Presentations run about 60-90 minutes long and we encourage you to bring your child if they would like to attend. \nPlease RSVP with the link above!
URL:https://jacksonville.cisvusa.org/event/cisv-101-info-session-beaches-location/
LOCATION:Green Room\, 228 3rd St N\, Jacksonville Beach\, FL\, 32250\, United States
CATEGORIES:CISV 101
ATTACH;FMTTYPE=image/jpeg:https://jacksonville.cisvusa.org/wp-content/uploads/sites/19/2021/11/CISV-101-Hero.jpeg
END:VEVENT
BEGIN:VEVENT
DTSTART;TZID=America/New_York:20251024T110000
DTEND;TZID=America/New_York:20251026T120000
DTSTAMP:20260422T204959
CREATED:20250901T170219Z
LAST-MODIFIED:20250901T170219Z
UID:10000352-1761303600-1761480000@jacksonville.cisvusa.org
SUMMARY:CISV Connect 2025 - National Meeting
DESCRIPTION:Join CISV members from across the country in Nashville\, Tennessee for CISV Connect\, our national gathering that combines education\, connection\, and classic CISV fun! This energizing weekend features mini camp-style activities (including beloved traditions like lullabies and flag time) alongside interactive educational sessions designed for both youth and adult participants. \nWhether you’re a seasoned CISV volunteer\, new board member\, or youth participant (11+)\, this is an incredible opportunity to connect with the broader CISV community\, share best practices\, and experience what makes our organization special. High school-aged Junior Branch members will find content especially relevant\, but all ages are welcome to participate. \nCISV USA has committed funding to keep costs affordable\, with registration options at $200-300 per person. This is a fantastic chance for Jacksonville members to represent our chapter and bring new ideas back to our community. \nInterested in attending? Check out the CISV Connect Website for more information and registration details.
URL:https://jacksonville.cisvusa.org/event/cisv-connect-2025-national-meeting/
LOCATION:FL
END:VEVENT
END:VCALENDAR