BEGIN:VCALENDAR
VERSION:2.0
PRODID:-//Jacksonville - ECPv6.15.20//NONSGML v1.0//EN
CALSCALE:GREGORIAN
METHOD:PUBLISH
X-WR-CALNAME:Jacksonville
X-ORIGINAL-URL:https://jacksonville.cisvusa.org
X-WR-CALDESC:Events for Jacksonville
REFRESH-INTERVAL;VALUE=DURATION:PT1H
X-Robots-Tag:noindex
X-PUBLISHED-TTL:PT1H
BEGIN:VTIMEZONE
TZID:America/New_York
BEGIN:DAYLIGHT
TZOFFSETFROM:-0500
TZOFFSETTO:-0400
TZNAME:EDT
DTSTART:20240310T070000
END:DAYLIGHT
BEGIN:STANDARD
TZOFFSETFROM:-0400
TZOFFSETTO:-0500
TZNAME:EST
DTSTART:20241103T060000
END:STANDARD
BEGIN:DAYLIGHT
TZOFFSETFROM:-0500
TZOFFSETTO:-0400
TZNAME:EDT
DTSTART:20250309T070000
END:DAYLIGHT
BEGIN:STANDARD
TZOFFSETFROM:-0400
TZOFFSETTO:-0500
TZNAME:EST
DTSTART:20251102T060000
END:STANDARD
BEGIN:DAYLIGHT
TZOFFSETFROM:-0500
TZOFFSETTO:-0400
TZNAME:EDT
DTSTART:20260308T070000
END:DAYLIGHT
BEGIN:STANDARD
TZOFFSETFROM:-0400
TZOFFSETTO:-0500
TZNAME:EST
DTSTART:20261101T060000
END:STANDARD
END:VTIMEZONE
BEGIN:VEVENT
DTSTART;TZID=America/New_York:20250504T140000
DTEND;TZID=America/New_York:20250504T160000
DTSTAMP:20260425T160032
CREATED:20241107T013136Z
LAST-MODIFIED:20250425T001730Z
UID:10000279-1746367200-1746374400@jacksonville.cisvusa.org
SUMMARY:Spring General Meeting 2025
DESCRIPTION:Join us for our Spring General Meeting where we’ll celebrate our next generation of global citizens! Watch our youth delegates shine in the Parade of Nations as we honor Jacksonville’s chosen representatives for CISV’s 2025 summer programs. We’ll also shape our chapter’s future by electing new chapter officers\, while our Junior Branch selects their  new leadership team. All chapter members and guests are welcome! \n 
URL:https://jacksonville.cisvusa.org/event/sgm-25/
LOCATION:Bolles McGehee Auditorium – San Jose Campus\, 7400 San Jose Blvd\, Jacksonville\, FL\, 32217\, United States
ATTACH;FMTTYPE=image/jpeg:https://jacksonville.cisvusa.org/wp-content/uploads/sites/19/2024/02/DebriefGroup-scaled.jpg
END:VEVENT
END:VCALENDAR