BEGIN:VCALENDAR
VERSION:2.0
PRODID:-//Jacksonville - ECPv6.15.20//NONSGML v1.0//EN
CALSCALE:GREGORIAN
METHOD:PUBLISH
X-WR-CALNAME:Jacksonville
X-ORIGINAL-URL:https://jacksonville.cisvusa.org
X-WR-CALDESC:Events for Jacksonville
REFRESH-INTERVAL;VALUE=DURATION:PT1H
X-Robots-Tag:noindex
X-PUBLISHED-TTL:PT1H
BEGIN:VTIMEZONE
TZID:America/New_York
BEGIN:DAYLIGHT
TZOFFSETFROM:-0500
TZOFFSETTO:-0400
TZNAME:EDT
DTSTART:20250309T070000
END:DAYLIGHT
BEGIN:STANDARD
TZOFFSETFROM:-0400
TZOFFSETTO:-0500
TZNAME:EST
DTSTART:20251102T060000
END:STANDARD
BEGIN:DAYLIGHT
TZOFFSETFROM:-0500
TZOFFSETTO:-0400
TZNAME:EDT
DTSTART:20260308T070000
END:DAYLIGHT
BEGIN:STANDARD
TZOFFSETFROM:-0400
TZOFFSETTO:-0500
TZNAME:EST
DTSTART:20261101T060000
END:STANDARD
BEGIN:DAYLIGHT
TZOFFSETFROM:-0500
TZOFFSETTO:-0400
TZNAME:EDT
DTSTART:20270314T070000
END:DAYLIGHT
BEGIN:STANDARD
TZOFFSETFROM:-0400
TZOFFSETTO:-0500
TZNAME:EST
DTSTART:20271107T060000
END:STANDARD
END:VTIMEZONE
BEGIN:VEVENT
DTSTART;TZID=America/New_York:20260222T143000
DTEND;TZID=America/New_York:20260222T170000
DTSTAMP:20260419T203931
CREATED:20260117T162417Z
LAST-MODIFIED:20260126T192923Z
UID:10000375-1771770600-1771779600@jacksonville.cisvusa.org
SUMMARY:Painting with a Twist Adult Social & Fundraiser
DESCRIPTION:Calling all adults! Join CISV Jacksonville for a fun afternoon out while supporting a wonderful cause. Whether you’re looking to unwind\, meet up with friends\, or simply enjoy some creative time\, this paint night is the perfect excuse for an adults-only social! \nEvent Details: \n\nDate: Sunday\, February 22\, 2026\nTime: 2:30 PM – 5:00 PM\nLocation: Painting with a Twist\, 1525 San Marco Blvd\, Jacksonville\, FL 32207\n$45 per person\n\nLeave the kids at home and treat yourself to an afternoon of relaxation and creativity! No artistic experience necessary – you’ll be guided step-by-step as you paint a beautiful Jacksonville skyline. Bring your friends\, make new connections\, and take home your own masterpiece. \nYour participation directly supports CISV Jacksonville’s peace education programs. Space is limited\, so grab your spot and join us for painting and good company! \nRegister here: https://www.paintingwithatwist.com/studio/jacksonville/event/4146707/
URL:https://jacksonville.cisvusa.org/event/painting-with-a-twist-adult-social-fundraiser/
LOCATION:Painting With A Twist\, 1525 San Marco Blvd\, Jacksonville\, FL\, 32207\, United States
CATEGORIES:Adult Socials
ATTACH;FMTTYPE=image/jpeg:https://jacksonville.cisvusa.org/wp-content/uploads/sites/19/2026/01/WhatsApp-Image-2026-01-09-at-11.21.26.jpeg
END:VEVENT
END:VCALENDAR