BEGIN:VCALENDAR
VERSION:2.0
PRODID:-//Jacksonville - ECPv6.15.20//NONSGML v1.0//EN
CALSCALE:GREGORIAN
METHOD:PUBLISH
X-WR-CALNAME:Jacksonville
X-ORIGINAL-URL:https://jacksonville.cisvusa.org
X-WR-CALDESC:Events for Jacksonville
REFRESH-INTERVAL;VALUE=DURATION:PT1H
X-Robots-Tag:noindex
X-PUBLISHED-TTL:PT1H
BEGIN:VTIMEZONE
TZID:America/New_York
BEGIN:DAYLIGHT
TZOFFSETFROM:-0500
TZOFFSETTO:-0400
TZNAME:EDT
DTSTART:20250309T070000
END:DAYLIGHT
BEGIN:STANDARD
TZOFFSETFROM:-0400
TZOFFSETTO:-0500
TZNAME:EST
DTSTART:20251102T060000
END:STANDARD
BEGIN:DAYLIGHT
TZOFFSETFROM:-0500
TZOFFSETTO:-0400
TZNAME:EDT
DTSTART:20260308T070000
END:DAYLIGHT
BEGIN:STANDARD
TZOFFSETFROM:-0400
TZOFFSETTO:-0500
TZNAME:EST
DTSTART:20261101T060000
END:STANDARD
BEGIN:DAYLIGHT
TZOFFSETFROM:-0500
TZOFFSETTO:-0400
TZNAME:EDT
DTSTART:20270314T070000
END:DAYLIGHT
BEGIN:STANDARD
TZOFFSETFROM:-0400
TZOFFSETTO:-0500
TZNAME:EST
DTSTART:20271107T060000
END:STANDARD
END:VTIMEZONE
BEGIN:VEVENT
DTSTART;TZID=America/New_York:20260120T081500
DTEND;TZID=America/New_York:20260120T084500
DTSTAMP:20260420T221655
CREATED:20260117T154008Z
LAST-MODIFIED:20260117T154008Z
UID:10000374-1768896900-1768898700@jacksonville.cisvusa.org
SUMMARY:CISV 101 Info Session Bolles Whitehurst Campus
DESCRIPTION:Are you considering CISV for your child? At CISV 101\, parents and kids who have participated in CISV international and local educational programs share their experiences\, explain the history and goals of CISV. We also discuss what happens at CISV programs and next steps for your child becoming a CISV participant. \nCome learn what CISV is all about!! We will be hosting a CISV 101 at Green Room \n*Presentations run about 60-90 minutes long and we encourage you to bring your child if they would like to attend. \nPlease RSVP with the link above!
URL:https://jacksonville.cisvusa.org/event/cisv-101-info-session-bolles-whitehurst-campus/
LOCATION:Bolles Whitehurst Campus Library\, 7400 San Jose Blvd.\, Jacksonville\, FL\, 32217\, United States
ATTACH;FMTTYPE=image/jpeg:https://jacksonville.cisvusa.org/wp-content/uploads/sites/19/2021/11/CISV-101-Hero.jpeg
GEO:30.2418802;-81.6294964
X-APPLE-STRUCTURED-LOCATION;VALUE=URI;X-ADDRESS=Bolles Whitehurst Campus Library 7400 San Jose Blvd. Jacksonville FL 32217 United States;X-APPLE-RADIUS=500;X-TITLE=7400 San Jose Blvd.:geo:-81.6294964,30.2418802
END:VEVENT
END:VCALENDAR