BEGIN:VCALENDAR
VERSION:2.0
PRODID:-//Jacksonville - ECPv6.15.20//NONSGML v1.0//EN
CALSCALE:GREGORIAN
METHOD:PUBLISH
X-WR-CALNAME:Jacksonville
X-ORIGINAL-URL:https://jacksonville.cisvusa.org
X-WR-CALDESC:Events for Jacksonville
REFRESH-INTERVAL;VALUE=DURATION:PT1H
X-Robots-Tag:noindex
X-PUBLISHED-TTL:PT1H
BEGIN:VTIMEZONE
TZID:America/New_York
BEGIN:DAYLIGHT
TZOFFSETFROM:-0500
TZOFFSETTO:-0400
TZNAME:EDT
DTSTART:20240310T070000
END:DAYLIGHT
BEGIN:STANDARD
TZOFFSETFROM:-0400
TZOFFSETTO:-0500
TZNAME:EST
DTSTART:20241103T060000
END:STANDARD
BEGIN:DAYLIGHT
TZOFFSETFROM:-0500
TZOFFSETTO:-0400
TZNAME:EDT
DTSTART:20250309T070000
END:DAYLIGHT
BEGIN:STANDARD
TZOFFSETFROM:-0400
TZOFFSETTO:-0500
TZNAME:EST
DTSTART:20251102T060000
END:STANDARD
BEGIN:DAYLIGHT
TZOFFSETFROM:-0500
TZOFFSETTO:-0400
TZNAME:EDT
DTSTART:20260308T070000
END:DAYLIGHT
BEGIN:STANDARD
TZOFFSETFROM:-0400
TZOFFSETTO:-0500
TZNAME:EST
DTSTART:20261101T060000
END:STANDARD
END:VTIMEZONE
BEGIN:VEVENT
DTSTART;TZID=America/New_York:20251206T100000
DTEND;TZID=America/New_York:20251206T130000
DTSTAMP:20260422T191003
CREATED:20251106T032756Z
LAST-MODIFIED:20251106T034626Z
UID:10000368-1765015200-1765026000@jacksonville.cisvusa.org
SUMMARY:Community Corner: Really Free Market
DESCRIPTION:Really Free Market is a cool\, local mutual aid initiative that aligns with CISV values by:\n\nEncourages sustainability and responsible consumption by bringing still useful items that you no longer use and need a new home\nPromotes peace and equity through sharing without expectation – no money\, no trade\, no judgement – take what you need\nStrengthens community by inviting people of all backgrounds to connect\, share\, and support each other\nEmbodies CISV’s mission of peace through action\n\nHow can you participate?\n\nCISV Jacksonville will be there with a picnic blanket to put our items on.\nBring 2 or more useful items: books\, toys\, clothing\, food.\nTake home any items you brought that weren’t taken by someone else (we leave no trace here!).\n“Take all you want\, give all you want. You don’t need to trade\, barter\, ask permission\, feel weird\, or anything. Just come as you are\, and have fun!”
URL:https://jacksonville.cisvusa.org/event/community-corner-really-free-market/
LOCATION:Memorial Park (1620 Riverside Ave\, Jacksonville\, FL 32204)\, 1620 Riverside Ave\, Jacksonville\, FL\, 32205\, United States
ATTACH;FMTTYPE=image/jpeg:https://jacksonville.cisvusa.org/wp-content/uploads/sites/19/2023/11/IMG_20230713_192015021_HDR-1-scaled.jpg
END:VEVENT
END:VCALENDAR