BEGIN:VCALENDAR
VERSION:2.0
PRODID:-//Jacksonville - ECPv6.15.20//NONSGML v1.0//EN
CALSCALE:GREGORIAN
METHOD:PUBLISH
X-WR-CALNAME:Jacksonville
X-ORIGINAL-URL:https://jacksonville.cisvusa.org
X-WR-CALDESC:Events for Jacksonville
REFRESH-INTERVAL;VALUE=DURATION:PT1H
X-Robots-Tag:noindex
X-PUBLISHED-TTL:PT1H
BEGIN:VTIMEZONE
TZID:America/New_York
BEGIN:DAYLIGHT
TZOFFSETFROM:-0500
TZOFFSETTO:-0400
TZNAME:EDT
DTSTART:20240310T070000
END:DAYLIGHT
BEGIN:STANDARD
TZOFFSETFROM:-0400
TZOFFSETTO:-0500
TZNAME:EST
DTSTART:20241103T060000
END:STANDARD
BEGIN:DAYLIGHT
TZOFFSETFROM:-0500
TZOFFSETTO:-0400
TZNAME:EDT
DTSTART:20250309T070000
END:DAYLIGHT
BEGIN:STANDARD
TZOFFSETFROM:-0400
TZOFFSETTO:-0500
TZNAME:EST
DTSTART:20251102T060000
END:STANDARD
BEGIN:DAYLIGHT
TZOFFSETFROM:-0500
TZOFFSETTO:-0400
TZNAME:EDT
DTSTART:20260308T070000
END:DAYLIGHT
BEGIN:STANDARD
TZOFFSETFROM:-0400
TZOFFSETTO:-0500
TZNAME:EST
DTSTART:20261101T060000
END:STANDARD
END:VTIMEZONE
BEGIN:VEVENT
DTSTART;TZID=America/New_York:20251102T140000
DTEND;TZID=America/New_York:20251102T160000
DTSTAMP:20260425T222735
CREATED:20250831T223627Z
LAST-MODIFIED:20251030T171040Z
UID:10000349-1762092000-1762099200@jacksonville.cisvusa.org
SUMMARY:CISV Jacksonville Fall General Meeting
DESCRIPTION:Come celebrate an amazing year with the CISV Jacksonville community! Join us for our Fall General Meeting where we’ll honor our incredible youth and leaders who represented Jacksonville and the USA at 2025 CISV programs around the world. \nGet excited about what’s ahead as we unveil the 2026 program dates and destinations\, plus share updates on upcoming local events and opportunities. This is your chance to connect with fellow CISV families\, hear inspiring stories from our recent program participants\, and discover how your family can be part of next year’s global adventures. \nWhether you’re a longtime CISV family or new to our community\, this gathering promises to be both informative and inspiring. Come see what makes CISV Jacksonville special! \nContact jacksonville@cisvusa.org for more information. \nOur JB Board is having a Canned Food Drive!\nThe JB Board is aiming to collect 400 canned food items by this Sunday to support local food pantries and food banks\, which are facing shortages as they continue to serve the community amid recent SNAP cuts. \n\nSign up to bring canned food to the Fall General Meeting.\nVenmo us @cisvjax. The entire donation will be used to purchase canned foods!
URL:https://jacksonville.cisvusa.org/event/cisv-jacksonville-fall-general-meeting/
LOCATION:Bolles McGehee Auditorium – San Jose Campus\, 7400 San Jose Blvd\, Jacksonville\, FL\, 32217\, United States
ATTACH;FMTTYPE=image/jpeg:https://jacksonville.cisvusa.org/wp-content/uploads/sites/19/2025/08/DSC3984-scaled-e1756679749344.jpg
END:VEVENT
END:VCALENDAR