BEGIN:VCALENDAR
VERSION:2.0
PRODID:-//Jacksonville - ECPv6.15.20//NONSGML v1.0//EN
CALSCALE:GREGORIAN
METHOD:PUBLISH
X-WR-CALNAME:Jacksonville
X-ORIGINAL-URL:https://jacksonville.cisvusa.org
X-WR-CALDESC:Events for Jacksonville
REFRESH-INTERVAL;VALUE=DURATION:PT1H
X-Robots-Tag:noindex
X-PUBLISHED-TTL:PT1H
BEGIN:VTIMEZONE
TZID:America/New_York
BEGIN:DAYLIGHT
TZOFFSETFROM:-0500
TZOFFSETTO:-0400
TZNAME:EDT
DTSTART:20240310T070000
END:DAYLIGHT
BEGIN:STANDARD
TZOFFSETFROM:-0400
TZOFFSETTO:-0500
TZNAME:EST
DTSTART:20241103T060000
END:STANDARD
BEGIN:DAYLIGHT
TZOFFSETFROM:-0500
TZOFFSETTO:-0400
TZNAME:EDT
DTSTART:20250309T070000
END:DAYLIGHT
BEGIN:STANDARD
TZOFFSETFROM:-0400
TZOFFSETTO:-0500
TZNAME:EST
DTSTART:20251102T060000
END:STANDARD
BEGIN:DAYLIGHT
TZOFFSETFROM:-0500
TZOFFSETTO:-0400
TZNAME:EDT
DTSTART:20260308T070000
END:DAYLIGHT
BEGIN:STANDARD
TZOFFSETFROM:-0400
TZOFFSETTO:-0500
TZNAME:EST
DTSTART:20261101T060000
END:STANDARD
END:VTIMEZONE
BEGIN:VEVENT
DTSTART;TZID=America/New_York:20250907T090000
DTEND;TZID=America/New_York:20250907T140000
DTSTAMP:20260425T190406
CREATED:20250831T222310Z
LAST-MODIFIED:20250831T222310Z
UID:10000348-1757235600-1757253600@jacksonville.cisvusa.org
SUMMARY:CISV Junior Branch Board Annual Planning Retreat
DESCRIPTION:Our CISV Junior Branch  Board will gather for a full-day retreat to plan their initiatives and goals for the upcoming year. This intensive planning session focuses on team building\, program development\, and leadership skills as our youth leaders shape the future of CISV Jacksonville’s youth programming and community engagement. \nFor more information\, contact jacksonville@cisvusa.org
URL:https://jacksonville.cisvusa.org/event/cisv-junior-branch-board-annual-planning-retreat/
LOCATION:FL
CATEGORIES:JB Monthly Activity
ATTACH;FMTTYPE=image/jpeg:https://jacksonville.cisvusa.org/wp-content/uploads/sites/19/2025/08/IMG_2977-e1756678947138.jpg
END:VEVENT
END:VCALENDAR