BEGIN:VCALENDAR
VERSION:2.0
PRODID:-//Jacksonville - ECPv6.15.20//NONSGML v1.0//EN
CALSCALE:GREGORIAN
METHOD:PUBLISH
X-WR-CALNAME:Jacksonville
X-ORIGINAL-URL:https://jacksonville.cisvusa.org
X-WR-CALDESC:Events for Jacksonville
REFRESH-INTERVAL;VALUE=DURATION:PT1H
X-Robots-Tag:noindex
X-PUBLISHED-TTL:PT1H
BEGIN:VTIMEZONE
TZID:America/New_York
BEGIN:DAYLIGHT
TZOFFSETFROM:-0500
TZOFFSETTO:-0400
TZNAME:EDT
DTSTART:20240310T070000
END:DAYLIGHT
BEGIN:STANDARD
TZOFFSETFROM:-0400
TZOFFSETTO:-0500
TZNAME:EST
DTSTART:20241103T060000
END:STANDARD
BEGIN:DAYLIGHT
TZOFFSETFROM:-0500
TZOFFSETTO:-0400
TZNAME:EDT
DTSTART:20250309T070000
END:DAYLIGHT
BEGIN:STANDARD
TZOFFSETFROM:-0400
TZOFFSETTO:-0500
TZNAME:EST
DTSTART:20251102T060000
END:STANDARD
BEGIN:DAYLIGHT
TZOFFSETFROM:-0500
TZOFFSETTO:-0400
TZNAME:EDT
DTSTART:20260308T070000
END:DAYLIGHT
BEGIN:STANDARD
TZOFFSETFROM:-0400
TZOFFSETTO:-0500
TZNAME:EST
DTSTART:20261101T060000
END:STANDARD
END:VTIMEZONE
BEGIN:VEVENT
DTSTART;TZID=America/New_York:20250301T100000
DTEND;TZID=America/New_York:20250301T120000
DTSTAMP:20260421T021853
CREATED:20241113T212011Z
LAST-MODIFIED:20250129T000655Z
UID:10000281-1740823200-1740830400@jacksonville.cisvusa.org
SUMMARY:Faces Fun Day #3 2025
DESCRIPTION:CISV Jacksonville selects youth for its Faces program (for kids who are age 9\, 10 or 11 during the camp dates). \nSelection events provide children with a firsthand experience of CISV games and activities\, offer parents insights into CISV’s educational principles and program specifics\, and allow our chapter to familiarize itself with youth and leader applicants. \nWe also invite adults to a CISV “101” Info Session to delve deeper into CISV’s principles. \nThe Faces Programs aim to cultivate an understanding of each other’s lives and foster communication\, cooperation\, and communal living. Selection criteria include a child’s maturity\, openness to new experiences and people\, enthusiasm for participation\, and the ability to be away from family during the program. The delegation’s personality mix is also considered. \nActivities are typically planned and led by teenage leaders from the Junior Branch and experienced adult delegation leaders. Planning selection events provides our youth leaders with an opportunity to practice and enhance their leadership skills. \n\nApply for Faces\nGet Reference Form for Your Child’s Teacher to Complete\nLearn More About the Selection Process\n\nCISV Volunteers please sign up here to volunteer the day of event or help provide snacks.
URL:https://jacksonville.cisvusa.org/event/faces-fun-day-3-2025/
LOCATION:Kids Hope Alliance\, 1095 A. Phillip Randolph Blvd\, Jacksonville\, FL\, 32206
CATEGORIES:FACES,Play Dates
ATTACH;FMTTYPE=image/jpeg:https://jacksonville.cisvusa.org/wp-content/uploads/sites/19/2022/08/IMG_20220424_153851655_HDR-scaled.jpg
GEO:30.336218;-81.6422509
X-APPLE-STRUCTURED-LOCATION;VALUE=URI;X-ADDRESS=Kids Hope Alliance 1095 A. Phillip Randolph Blvd Jacksonville FL 32206;X-APPLE-RADIUS=500;X-TITLE=1095 A. Phillip Randolph Blvd:geo:-81.6422509,30.336218
END:VEVENT
END:VCALENDAR