BEGIN:VCALENDAR
VERSION:2.0
PRODID:-//Jacksonville - ECPv6.15.20//NONSGML v1.0//EN
CALSCALE:GREGORIAN
METHOD:PUBLISH
X-WR-CALNAME:Jacksonville
X-ORIGINAL-URL:https://jacksonville.cisvusa.org
X-WR-CALDESC:Events for Jacksonville
REFRESH-INTERVAL;VALUE=DURATION:PT1H
X-Robots-Tag:noindex
X-PUBLISHED-TTL:PT1H
BEGIN:VTIMEZONE
TZID:America/New_York
BEGIN:DAYLIGHT
TZOFFSETFROM:-0500
TZOFFSETTO:-0400
TZNAME:EDT
DTSTART:20240310T070000
END:DAYLIGHT
BEGIN:STANDARD
TZOFFSETFROM:-0400
TZOFFSETTO:-0500
TZNAME:EST
DTSTART:20241103T060000
END:STANDARD
BEGIN:DAYLIGHT
TZOFFSETFROM:-0500
TZOFFSETTO:-0400
TZNAME:EDT
DTSTART:20250309T070000
END:DAYLIGHT
BEGIN:STANDARD
TZOFFSETFROM:-0400
TZOFFSETTO:-0500
TZNAME:EST
DTSTART:20251102T060000
END:STANDARD
BEGIN:DAYLIGHT
TZOFFSETFROM:-0500
TZOFFSETTO:-0400
TZNAME:EDT
DTSTART:20260308T070000
END:DAYLIGHT
BEGIN:STANDARD
TZOFFSETFROM:-0400
TZOFFSETTO:-0500
TZNAME:EST
DTSTART:20261101T060000
END:STANDARD
END:VTIMEZONE
BEGIN:VEVENT
DTSTART;TZID=America/New_York:20250214T190000
DTEND;TZID=America/New_York:20250217T110000
DTSTAMP:20260421T171403
CREATED:20240825T023831Z
LAST-MODIFIED:20250211T231009Z
UID:10000257-1739559600-1739790000@jacksonville.cisvusa.org
SUMMARY:JB Minicamp 2025
DESCRIPTION:Mini Camp Overview\nDiscover the excitement of Mini Camp\, a dynamic weekend filled with engaging CISV activities\, educational content\, and vibrant camaraderie. Our dedicated CISV Jacksonville Junior Branch Board is orchestrating an exceptional mini camp experience. \nKey Details: \n\nTheme: Under the Sea\nStart with Connection: As participants come from various schools\, the camp begins with icebreakers and “getting to know you” activities on Friday. Saturday features 4-5 theme-related activities\, with additional sessions on Sunday. Each activity is followed by a debrief to discuss the impact on attitudes\, skills\, and knowledge.\n\nHow to Register: \nMinicamp registration is now full for youth participants as of February 11.  If you would like to be on the waiting list\, email cisvjax@gmail.com.\n\nYouth Participants: Register Here\nAdult Chaperones (Aged 18+): Register Here\n\nRegistration Fees: \n\nRegister by Feb 2: $200\nLate registration (after Feb 2): $225\nLimited partial financial aid is available based on need.  Please complete the financial aid application.\n\nPayment Options: \n\nClick to pay through PayPal Before Feb 2:\nClick to pay through PayPal On/After Feb 2 (Includes $5 Convenience Fee)\nMail a check payable to CISV Jacksonville to 1050 Riverside Ave Suite C\, Jacksonville\, FL 32204. Checks must be received by Feb 10.\n\nAge Group: \n\nMini Camp is open to participants aged 10 to 21 and adult chaperones.\n\nLocation: \n\nCamp St. John\, Saint Johns County\, Florida\nAddress: 235 Marywood Drive St. Johns\, FL 32259\nCampsite Details\n\nTransportation: \n\nNo formal carpools organized. Informal carpools encouraged. Indicate the person picking up your camper on the registration form.\n\nWhat to Bring: \n\nSnacks to share\nComfortable clothing\nWeather-appropriate attire\nSleeping bag or sheets and blanket\nPillow\, towels\, shower shoes\nClosed-toe shoes/sneakers\nToiletries\, sunscreen\, bug spray\nReusable water bottle\, flashlight\, raincoat\nA positive attitude!\n\nAdditional Information: \n\nArrival: 7-9 pm on Friday; having already eaten dinner\nDeparture: Around 11:00 am on Monday\nMeals provided from Saturday breakfast to Monday breakfast\, included in the camp fee\nCamp T-shirts included in registration fee\n\nCell Phone Policy: \n\nRecommended to leave phones at home\nOnly adult chaperones and Junior Branch board members are permitted to have phones during mini camp\nPhones of participants will be secured during the event\n\nBehavior Guidelines: \n\nRefer to CISV’s Behavior Policy\n\nContact Information: \n\nFor pre-camp inquiries: cisvjax@gmail.com\nDuring camp\, contact Reggie Agulto at +1 (904) 903-1578 or cisvjax@gmail.com.\n\nVintage Video: Watch Here to see what happens at a mini camp.
URL:https://jacksonville.cisvusa.org/event/jb-minicamp-2025/
LOCATION:Camp St. Johns at Marywood Retreat Center\, 235 Marywood Dr\,\, St Johns\, FL\, 32259\, United States
CATEGORIES:Minicamp
ATTACH;FMTTYPE=image/jpeg:https://jacksonville.cisvusa.org/wp-content/uploads/sites/19/2024/08/20240224_125948-scaled.jpg
GEO:30.0842373;-81.6369037
X-APPLE-STRUCTURED-LOCATION;VALUE=URI;X-ADDRESS=Camp St. Johns at Marywood Retreat Center 235 Marywood Dr St Johns FL 32259 United States;X-APPLE-RADIUS=500;X-TITLE=235 Marywood Dr\,:geo:-81.6369037,30.0842373
END:VEVENT
END:VCALENDAR