BEGIN:VCALENDAR
VERSION:2.0
PRODID:-//Jacksonville - ECPv6.15.20//NONSGML v1.0//EN
CALSCALE:GREGORIAN
METHOD:PUBLISH
X-WR-CALNAME:Jacksonville
X-ORIGINAL-URL:https://jacksonville.cisvusa.org
X-WR-CALDESC:Events for Jacksonville
REFRESH-INTERVAL;VALUE=DURATION:PT1H
X-Robots-Tag:noindex
X-PUBLISHED-TTL:PT1H
BEGIN:VTIMEZONE
TZID:America/New_York
BEGIN:DAYLIGHT
TZOFFSETFROM:-0500
TZOFFSETTO:-0400
TZNAME:EDT
DTSTART:20240310T070000
END:DAYLIGHT
BEGIN:STANDARD
TZOFFSETFROM:-0400
TZOFFSETTO:-0500
TZNAME:EST
DTSTART:20241103T060000
END:STANDARD
BEGIN:DAYLIGHT
TZOFFSETFROM:-0500
TZOFFSETTO:-0400
TZNAME:EDT
DTSTART:20250309T070000
END:DAYLIGHT
BEGIN:STANDARD
TZOFFSETFROM:-0400
TZOFFSETTO:-0500
TZNAME:EST
DTSTART:20251102T060000
END:STANDARD
BEGIN:DAYLIGHT
TZOFFSETFROM:-0500
TZOFFSETTO:-0400
TZNAME:EDT
DTSTART:20260308T070000
END:DAYLIGHT
BEGIN:STANDARD
TZOFFSETFROM:-0400
TZOFFSETTO:-0500
TZNAME:EST
DTSTART:20261101T060000
END:STANDARD
END:VTIMEZONE
BEGIN:VEVENT
DTSTART;TZID=America/New_York:20250116T190000
DTEND;TZID=America/New_York:20250116T203000
DTSTAMP:20260421T171435
CREATED:20240819T030236Z
LAST-MODIFIED:20241213T212054Z
UID:10000253-1737054000-1737059400@jacksonville.cisvusa.org
SUMMARY:CISV 101 Information Session Virtual via Zoom
DESCRIPTION:Are you considering CISV for your child or for yourself? At CISV 101\, adults and kids who have participated in CISV international educational programs share their experiences and explain the history and goals of CISV. We also discuss what happens at CISV programs and the next steps for your child to become a CISV participant or for you to become a CISV leader.\nVIDEO FROM AUSTRIA VILLAGE 2024  \nhttps://us02web.zoom.us/j/4415451151?pwd=YnczUHJ4WExONTU4RWNDQXZDQzhLQT09&omn=87804500658 \nMeeting ID: 441 545 1151\nPasscode: 550633 \nOne tap mobile\n+13052241968\,\,4415451151#\,\,\,\,*550633# US\n+16469313860\,\,4415451151#\,\,\,\,*550633# US
URL:https://jacksonville.cisvusa.org/event/cisv-101-zoom-3/
LOCATION:Zoom
CATEGORIES:CISV 101
ATTACH;FMTTYPE=image/jpeg:https://jacksonville.cisvusa.org/wp-content/uploads/sites/19/2021/11/CISV-101-Hero.jpeg
END:VEVENT
END:VCALENDAR