BEGIN:VCALENDAR
VERSION:2.0
PRODID:-//Jacksonville - ECPv6.15.20//NONSGML v1.0//EN
CALSCALE:GREGORIAN
METHOD:PUBLISH
X-WR-CALNAME:Jacksonville
X-ORIGINAL-URL:https://jacksonville.cisvusa.org
X-WR-CALDESC:Events for Jacksonville
REFRESH-INTERVAL;VALUE=DURATION:PT1H
X-Robots-Tag:noindex
X-PUBLISHED-TTL:PT1H
BEGIN:VTIMEZONE
TZID:America/New_York
BEGIN:DAYLIGHT
TZOFFSETFROM:-0500
TZOFFSETTO:-0400
TZNAME:EDT
DTSTART:20230312T070000
END:DAYLIGHT
BEGIN:STANDARD
TZOFFSETFROM:-0400
TZOFFSETTO:-0500
TZNAME:EST
DTSTART:20231105T060000
END:STANDARD
BEGIN:DAYLIGHT
TZOFFSETFROM:-0500
TZOFFSETTO:-0400
TZNAME:EDT
DTSTART:20240310T070000
END:DAYLIGHT
BEGIN:STANDARD
TZOFFSETFROM:-0400
TZOFFSETTO:-0500
TZNAME:EST
DTSTART:20241103T060000
END:STANDARD
BEGIN:DAYLIGHT
TZOFFSETFROM:-0500
TZOFFSETTO:-0400
TZNAME:EDT
DTSTART:20250309T070000
END:DAYLIGHT
BEGIN:STANDARD
TZOFFSETFROM:-0400
TZOFFSETTO:-0500
TZNAME:EST
DTSTART:20251102T060000
END:STANDARD
END:VTIMEZONE
BEGIN:VEVENT
DTSTART;TZID=America/New_York:20241108T190000
DTEND;TZID=America/New_York:20241110T140000
DTSTAMP:20260422T043525
CREATED:20240806T153523Z
LAST-MODIFIED:20240810T180704Z
UID:10000251-1731092400-1731247200@jacksonville.cisvusa.org
SUMMARY:2024 Southeast Region Mini Camp (SRMC)
DESCRIPTION:We are very excited to announce Atlanta will be hosting the South East Regional mini camp Nov 8th 2023 7:00 PM through Nov 10th  2024 2:00 PM. \nWhat is Mini Camp?\nMini Camp is an incredible weekend; jam-packed with fun CISV activities\, top notch educational content\, awesome people\, energizers galore\, and so much more! Our awesome CISV Atlanta Junior Branch Board are planning an amazing mini camp for you. \nA mini camp is a 2-3 day program organized by a local chapter that imitates what it would be like to spend time at a national or international CISV program. It brings together experienced CISV participants and others\, that may be new to CISV\, to learn what CISV is all about. It is a fun weekend that aims to build cross-cultural understanding\, empathy\, and peace. Come join us to make friends and work toward building a more just and peaceful world. \nWe look forward to seeing everyone there. \nThe cost is $225 – $250. The earlier you register\, the lower the price. \n\n$225 if registered by 9/1/2024 (payment received between 8/4-9/1)\n$240 if registered by 9/30/2024 (payment received between 9/2-9/30)\n$255 if registered by 10/18/2024 (payment received between 10/1-10/18)\n\nYouth participants may register here: Registration for Atlanta SRMC 2024 \nRegistration is open now and closes October 18th\, 2024. \nYou can find the necessary attendance forms below: \nYouth Legal Form For participant.   (Ages 10 -17) \nAdult Legal Form – for Chaperones and Staff  (Ages 18+) \nYou can find the behaviour policy here: Behaviour Policy \nAll forms and payments are due October 18\, 2024. \nPlease visit the CISV Atlanta page to pay for your registration! Click below.\n2024 Atlanta SRMC Nov 8 -Nov 10 2024
URL:https://jacksonville.cisvusa.org/event/2024-southeast-region-mini-camp-srmc/
LOCATION:FL
CATEGORIES:Minicamp
ATTACH;FMTTYPE=image/jpeg:https://jacksonville.cisvusa.org/wp-content/uploads/sites/19/2024/03/SRMC23Selfie-e1710687910902.jpeg
END:VEVENT
END:VCALENDAR