BEGIN:VCALENDAR
VERSION:2.0
PRODID:-//Jacksonville - ECPv6.15.20//NONSGML v1.0//EN
CALSCALE:GREGORIAN
METHOD:PUBLISH
X-WR-CALNAME:Jacksonville
X-ORIGINAL-URL:https://jacksonville.cisvusa.org
X-WR-CALDESC:Events for Jacksonville
REFRESH-INTERVAL;VALUE=DURATION:PT1H
X-Robots-Tag:noindex
X-PUBLISHED-TTL:PT1H
BEGIN:VTIMEZONE
TZID:America/New_York
BEGIN:DAYLIGHT
TZOFFSETFROM:-0500
TZOFFSETTO:-0400
TZNAME:EDT
DTSTART:20230312T070000
END:DAYLIGHT
BEGIN:STANDARD
TZOFFSETFROM:-0400
TZOFFSETTO:-0500
TZNAME:EST
DTSTART:20231105T060000
END:STANDARD
BEGIN:DAYLIGHT
TZOFFSETFROM:-0500
TZOFFSETTO:-0400
TZNAME:EDT
DTSTART:20240310T070000
END:DAYLIGHT
BEGIN:STANDARD
TZOFFSETFROM:-0400
TZOFFSETTO:-0500
TZNAME:EST
DTSTART:20241103T060000
END:STANDARD
BEGIN:DAYLIGHT
TZOFFSETFROM:-0500
TZOFFSETTO:-0400
TZNAME:EDT
DTSTART:20250309T070000
END:DAYLIGHT
BEGIN:STANDARD
TZOFFSETFROM:-0400
TZOFFSETTO:-0500
TZNAME:EST
DTSTART:20251102T060000
END:STANDARD
END:VTIMEZONE
BEGIN:VEVENT
DTSTART;TZID=America/New_York:20241106T180000
DTEND;TZID=America/New_York:20241106T193000
DTSTAMP:20260425T222735
CREATED:20240909T013142Z
LAST-MODIFIED:20240918T012707Z
UID:10000269-1730916000-1730921400@jacksonville.cisvusa.org
SUMMARY:CISV 101 Info Session Southside Location
DESCRIPTION:Are you considering CISV for your child? At CISV 101\, parents and kids who have participated in CISV international and local educational programs share their experiences\, explain the history and goals of CISV. We also discuss what happens at CISV programs and next steps for your child becoming a CISV participant. \nCome learn what CISV is all about!! We will be hosting a CISV 101 at Southeast Regional Library (ROOM D) at 6pm! \n*Presentations run about 60-90 minutes long and we encourage you to bring your child if they would like to attend. \nPlease RSVP with the link above!
URL:https://jacksonville.cisvusa.org/event/cisv-101-southside-location/
LOCATION:Jacksonville Public Library – Southeast Branch\, 10599 Deerwood Park Blvd\, Jacksonville\, FL\, 32256\, United States
CATEGORIES:CISV 101
ATTACH;FMTTYPE=image/jpeg:https://jacksonville.cisvusa.org/wp-content/uploads/sites/19/2021/11/CISV-101-Hero.jpeg
GEO:30.249046;-81.5395014
X-APPLE-STRUCTURED-LOCATION;VALUE=URI;X-ADDRESS=Jacksonville Public Library – Southeast Branch 10599 Deerwood Park Blvd Jacksonville FL 32256 United States;X-APPLE-RADIUS=500;X-TITLE=10599 Deerwood Park Blvd:geo:-81.5395014,30.249046
END:VEVENT
END:VCALENDAR